BEGIN:VCALENDAR
VERSION:2.0
PRODID:-//American Young Coder - ECPv6.10.1.1//NONSGML v1.0//EN
CALSCALE:GREGORIAN
METHOD:PUBLISH
X-ORIGINAL-URL:https://www.ayclogic.com
X-WR-CALDESC:Events for American Young Coder
REFRESH-INTERVAL;VALUE=DURATION:PT1H
X-Robots-Tag:noindex
X-PUBLISHED-TTL:PT1H
BEGIN:VTIMEZONE
TZID:America/Los_Angeles
BEGIN:DAYLIGHT
TZOFFSETFROM:-0800
TZOFFSETTO:-0700
TZNAME:PDT
DTSTART:20210314T100000
END:DAYLIGHT
BEGIN:STANDARD
TZOFFSETFROM:-0700
TZOFFSETTO:-0800
TZNAME:PST
DTSTART:20211107T090000
END:STANDARD
END:VTIMEZONE
BEGIN:VEVENT
DTSTART;TZID=America/Los_Angeles:20210131T090000
DTEND;TZID=America/Los_Angeles:20210131T100000
DTSTAMP:20260425T153836
CREATED:20210131T180543Z
LAST-MODIFIED:20210131T180543Z
UID:6142-1612083600-1612087200@www.ayclogic.com
SUMMARY:9 AM - Intro To Java
DESCRIPTION:We continued with School Application\n\nWe organized each feature into its own method. For example for feature “1”\, we created addSchool() method. For feature\, “4”\, we created listAllSchools().\nWe added add teacher functionality.\n\n\nHomework:\n\nAdd code to enable the feature “3”\, add student. Look at how we did add teacher.
URL:https://www.ayclogic.com/event/9-am-intro-to-java-10/
CATEGORIES:Introduction To Java,Java
END:VEVENT
END:VCALENDAR