BEGIN:VCALENDAR
VERSION:2.0
PRODID:-//American Young Coder - ECPv6.10.1.1//NONSGML v1.0//EN
CALSCALE:GREGORIAN
METHOD:PUBLISH
X-ORIGINAL-URL:https://www.ayclogic.com
X-WR-CALDESC:Events for American Young Coder
REFRESH-INTERVAL;VALUE=DURATION:PT1H
X-Robots-Tag:noindex
X-PUBLISHED-TTL:PT1H
BEGIN:VTIMEZONE
TZID:America/Los_Angeles
BEGIN:DAYLIGHT
TZOFFSETFROM:-0800
TZOFFSETTO:-0700
TZNAME:PDT
DTSTART:20210314T100000
END:DAYLIGHT
BEGIN:STANDARD
TZOFFSETFROM:-0700
TZOFFSETTO:-0800
TZNAME:PST
DTSTART:20211107T090000
END:STANDARD
END:VTIMEZONE
BEGIN:VEVENT
DTSTART;TZID=America/Los_Angeles:20210204T153000
DTEND;TZID=America/Los_Angeles:20210204T163000
DTSTAMP:20260425T183336
CREATED:20210208T041942Z
LAST-MODIFIED:20210208T041942Z
UID:6226-1612452600-1612456200@www.ayclogic.com
SUMMARY:3:30PM - Python Game Development
DESCRIPTION:Today We Learned:\n\nHow to make a Child Class\nHow to Override a method\n\n\nHomework:\n\nTRY-IT-YOURSELF pg 162 9-3 from the textbook\, do it in Feb4_OOPHomework2.py\n\n\n\nIf you have any questions\, please send an email to latisha@ayclogic.com
URL:https://www.ayclogic.com/event/330pm-python-game-development-3/
END:VEVENT
BEGIN:VEVENT
DTSTART;TZID=America/Los_Angeles:20210204T163000
DTEND;TZID=America/Los_Angeles:20210204T173000
DTSTAMP:20260425T183336
CREATED:20210205T014308Z
LAST-MODIFIED:20210205T014345Z
UID:6181-1612456200-1612459800@www.ayclogic.com
SUMMARY:4:30 PM - Scratch Level 1 (Catch-up)
DESCRIPTION:Today we:\n\nstarted the Funny Faces project on pg. 70\nlearned how to draw sprites\nlearned how to put sprites in the back layer\nlearned how to make sprites stay in one place when the green flag is clicked\nlearned how to change the size of a sprite\n\n\nHomework:\n\nCreate a sprite to draw hair for the person and make sure the hair does not cover the entire face
URL:https://www.ayclogic.com/event/430-pm-scratch-level-1-catch-up-3/
CATEGORIES:Scratch Class,Scratch Class Level 1
END:VEVENT
BEGIN:VEVENT
DTSTART;TZID=America/Los_Angeles:20210204T180000
DTEND;TZID=America/Los_Angeles:20210204T190000
DTSTAMP:20260425T183336
CREATED:20210205T041036Z
LAST-MODIFIED:20210205T041036Z
UID:6187-1612461600-1612465200@www.ayclogic.com
SUMMARY:6 PM - Python Game Development
DESCRIPTION:We fixed the enemy.py when it is moving back and fort properly.\nWe continued with shoot balloon project\n\nWe made the bug fall down when it is shot.\nWe added the chirping sound when it is flying.\n\n\nHomework:\n\nDisplay the score text and the countdown on the top right right.
URL:https://www.ayclogic.com/event/6-pm-python-game-development-92/
CATEGORIES:Python Class,Python Game Development
END:VEVENT
BEGIN:VEVENT
DTSTART;TZID=America/Los_Angeles:20210204T190000
DTEND;TZID=America/Los_Angeles:20210204T200000
DTSTAMP:20260425T183336
CREATED:20210205T040820Z
LAST-MODIFIED:20210205T040820Z
UID:6185-1612465200-1612468800@www.ayclogic.com
SUMMARY:7 PM - Python Game Development
DESCRIPTION:We went over how to create giant fireball.\nWe differentiate a regular fireball vs giant fireball behavior. The giant fireball will not disappear when it hit a bird.\nWe displayed giant fireball cool down indicator in the screen. Just like score.\nHomework:\n\nCurrently the giant fireball indicator is counting up. We need to make it count down.\nWhen the giant fireball timer goes to zero\, we need to change the indicator to say “Giant Fireball READY” on the screen.
URL:https://www.ayclogic.com/event/7-pm-python-game-development-25/
CATEGORIES:Python Class,Python Game Development
END:VEVENT
END:VCALENDAR