BEGIN:VCALENDAR
VERSION:2.0
PRODID:-//American Young Coder - ECPv6.10.1.1//NONSGML v1.0//EN
CALSCALE:GREGORIAN
METHOD:PUBLISH
X-ORIGINAL-URL:https://www.ayclogic.com
X-WR-CALDESC:Events for American Young Coder
REFRESH-INTERVAL;VALUE=DURATION:PT1H
X-Robots-Tag:noindex
X-PUBLISHED-TTL:PT1H
BEGIN:VTIMEZONE
TZID:America/Los_Angeles
BEGIN:DAYLIGHT
TZOFFSETFROM:-0800
TZOFFSETTO:-0700
TZNAME:PDT
DTSTART:20210314T100000
END:DAYLIGHT
BEGIN:STANDARD
TZOFFSETFROM:-0700
TZOFFSETTO:-0800
TZNAME:PST
DTSTART:20211107T090000
END:STANDARD
END:VTIMEZONE
BEGIN:VEVENT
DTSTART;TZID=America/Los_Angeles:20210205T130000
DTEND;TZID=America/Los_Angeles:20210205T140000
DTSTAMP:20260425T183538
CREATED:20210205T220605Z
LAST-MODIFIED:20210205T220605Z
UID:6193-1612530000-1612533600@www.ayclogic.com
SUMMARY:1 PM - Scratch Level 1
DESCRIPTION:Today we:\n\nstarted the Name Animation Project\nlearned how to:\n\ncreate and draw sprites\nmake sprites change color and make a sound\nmake sprites spin\nmake sprites shrink and grow\nmake sprites look like they’re growing\n\n\n\n\nHomework:\n\nMove your first name to the top of the screen\nDraw sprites AND choose sprites from “Choose a Sprite” to spell your first name (if your first name is not finished)\nDraw sprites AND choose sprites from “Choose a Sprite” to spell your last name\nCode all letters so they do something special\n\nFor example: change colors\, shrink and grow\, spin
URL:https://www.ayclogic.com/event/1-pm-scratch-level-1-5/
CATEGORIES:Scratch Class,Scratch Class Level 1
END:VEVENT
BEGIN:VEVENT
DTSTART;TZID=America/Los_Angeles:20210205T190000
DTEND;TZID=America/Los_Angeles:20210205T200000
DTSTAMP:20260425T183538
CREATED:20210206T040218Z
LAST-MODIFIED:20210206T040218Z
UID:6195-1612551600-1612555200@www.ayclogic.com
SUMMARY:7 PM - Intro To Python
DESCRIPTION:There is no class next week\, the class will resume on Feb 19.\nWe went over how to use List.\nHomework:\n\nCreate your homework in Feb5_ListForLoop.py\nDo page 50 to 52 – For loop iterating List\nDo page 57 – For loop with range.
URL:https://www.ayclogic.com/event/7-pm-intro-to-python-19/
CATEGORIES:Python Class,Python Level 1
END:VEVENT
END:VCALENDAR