BEGIN:VCALENDAR
VERSION:2.0
PRODID:-//American Young Coder - ECPv6.10.1.1//NONSGML v1.0//EN
CALSCALE:GREGORIAN
METHOD:PUBLISH
X-ORIGINAL-URL:https://www.ayclogic.com
X-WR-CALDESC:Events for American Young Coder
REFRESH-INTERVAL;VALUE=DURATION:PT1H
X-Robots-Tag:noindex
X-PUBLISHED-TTL:PT1H
BEGIN:VTIMEZONE
TZID:America/Los_Angeles
BEGIN:DAYLIGHT
TZOFFSETFROM:-0800
TZOFFSETTO:-0700
TZNAME:PDT
DTSTART:20210314T100000
END:DAYLIGHT
BEGIN:STANDARD
TZOFFSETFROM:-0700
TZOFFSETTO:-0800
TZNAME:PST
DTSTART:20211107T090000
END:STANDARD
END:VTIMEZONE
BEGIN:VEVENT
DTSTART;TZID=America/Los_Angeles:20210208T171500
DTEND;TZID=America/Los_Angeles:20210208T181500
DTSTAMP:20260425T183334
CREATED:20210209T025106Z
LAST-MODIFIED:20210209T025702Z
UID:6234-1612804500-1612808100@www.ayclogic.com
SUMMARY:5:15PM - Beginner Digital Illustration
DESCRIPTION:MONDAY CLASS: \nToday we finished our Snowman project\, adding shading\, background\, and details to our drawing. Good job everyone! \nFor HW: \nPlease re-make the Snowman project\, using the tools and techniques we learned in class. You may add any personal extra details you would like. \nSteps: \n\n[Sketching] : Sketch the snowman and the background on separate layers. Hide the background sketch so you can focus on the snowman.\n[Coloring] : Add a new layer (under the sketch). Color this whole layer in a light grey/blue. Add a new layer. Color your snowman white. Add a new layer. Color the details\, like clothes or other features.\n[Lines] : Add a new layer. Using a small brush\, and a dark color (or black)\, trace the lines of your sketch.\n[Shading] : Add a new layer (place it under lines and over colors). Using the color picker by holding down your pen/finger\, pick up the color you are going to shade\, and make it a little bit darker to add shading. Shade your snowman and all the details.\n[Background] : Hide all the layers of your snowman. Turn on only the grey/blue layer (the most bottom layer)\, and turn on the background sketch (the most top layer). Add a new layer\, and place it right above the grey/blue layer. Color in your background. (you can make any background you want\, like a beach)\n[Details] : When your background is done\, you can turn all the layers back on to see the completed picture. You can now add one more new layer\, and add any extra details to the picture.\n\nHere is the finished picture from today’s project for reference:
URL:https://www.ayclogic.com/event/515pm-beginner-digital-illustration/
CATEGORIES:Beginner Digital Illustration,Digital Illustration
END:VEVENT
END:VCALENDAR