BEGIN:VCALENDAR
VERSION:2.0
PRODID:-//American Young Coder - ECPv6.10.1.1//NONSGML v1.0//EN
CALSCALE:GREGORIAN
METHOD:PUBLISH
X-WR-CALNAME:American Young Coder
X-ORIGINAL-URL:https://www.ayclogic.com
X-WR-CALDESC:Events for American Young Coder
REFRESH-INTERVAL;VALUE=DURATION:PT1H
X-Robots-Tag:noindex
X-PUBLISHED-TTL:PT1H
BEGIN:VTIMEZONE
TZID:America/Los_Angeles
BEGIN:DAYLIGHT
TZOFFSETFROM:-0800
TZOFFSETTO:-0700
TZNAME:PDT
DTSTART:20210314T100000
END:DAYLIGHT
BEGIN:STANDARD
TZOFFSETFROM:-0700
TZOFFSETTO:-0800
TZNAME:PST
DTSTART:20211107T090000
END:STANDARD
END:VTIMEZONE
BEGIN:VEVENT
DTSTART;TZID=America/Los_Angeles:20210209T153000
DTEND;TZID=America/Los_Angeles:20210209T163000
DTSTAMP:20260425T200925
CREATED:20210211T062112Z
LAST-MODIFIED:20210211T062112Z
UID:6258-1612884600-1612888200@www.ayclogic.com
SUMMARY:3:30PM - Python Game Development
DESCRIPTION:Today we Did:\n\nStarted Birdie game\nInserted background image\nInserted bird1\n\n\nHomework:\n\nload and display bird02_B.png\, at (200\,200) and bird03_A.png at (400\,400)\n\n\n\nIf you have any questions\, please send an email to latisha@ayclogic.com
URL:https://www.ayclogic.com/event/330pm-python-game-development-4/
END:VEVENT
BEGIN:VEVENT
DTSTART;TZID=America/Los_Angeles:20210209T170000
DTEND;TZID=America/Los_Angeles:20210209T180000
DTSTAMP:20260425T200925
CREATED:20210210T020359Z
LAST-MODIFIED:20210211T061648Z
UID:6240-1612890000-1612893600@www.ayclogic.com
SUMMARY:5PM - Intro to Python
DESCRIPTION:Today we Learned:\n\nHow to use Turtle\nHow to draw rectangles\nBegan RobotBuilder\n\n\nHomework:\n\nDo all the problems on List\, Inputs\, If… website\, do it in a file called Feb9_WebsiteHomework.py\nDraw the body and neck of the robot in Feb9_RobotBuilder.py\n\n\n\n \nIf you have any questions\, please send an email to latisha@ayclogic.com
URL:https://www.ayclogic.com/event/5pm-intro-to-python-6/
END:VEVENT
END:VCALENDAR