BEGIN:VCALENDAR
VERSION:2.0
PRODID:-//American Young Coder - ECPv6.10.1.1//NONSGML v1.0//EN
CALSCALE:GREGORIAN
METHOD:PUBLISH
X-WR-CALNAME:American Young Coder
X-ORIGINAL-URL:https://www.ayclogic.com
X-WR-CALDESC:Events for American Young Coder
REFRESH-INTERVAL;VALUE=DURATION:PT1H
X-Robots-Tag:noindex
X-PUBLISHED-TTL:PT1H
BEGIN:VTIMEZONE
TZID:America/Los_Angeles
BEGIN:DAYLIGHT
TZOFFSETFROM:-0800
TZOFFSETTO:-0700
TZNAME:PDT
DTSTART:20210314T100000
END:DAYLIGHT
BEGIN:STANDARD
TZOFFSETFROM:-0700
TZOFFSETTO:-0800
TZNAME:PST
DTSTART:20211107T090000
END:STANDARD
END:VTIMEZONE
BEGIN:VEVENT
DTSTART;TZID=America/Los_Angeles:20210213T110000
DTEND;TZID=America/Los_Angeles:20210213T120000
DTSTAMP:20260425T183015
CREATED:20210213T200548Z
LAST-MODIFIED:20210213T200548Z
UID:6275-1613214000-1613217600@www.ayclogic.com
SUMMARY:11 am Scratch Level 1
DESCRIPTION:Today We: \n\nContinued the Punch Dummy Project\nAdded the Pow effect when we punch it\nAdded the sound effects when we punch it\nFinished the Punch Dummy Project\nStarted the Mary had a little lamb project\nCreated the musical balls\nlearned about the music code and the piano keys\nDuplicated the musical balls so they each play a different note when touched\n\nYour HW: \n\nCreate balls for each of the piano notes(F – fa\, G – sol\, A – la \, B – ti)
URL:https://www.ayclogic.com/event/11-am-scratch-level-1-22/
END:VEVENT
BEGIN:VEVENT
DTSTART;TZID=America/Los_Angeles:20210213T150000
DTEND;TZID=America/Los_Angeles:20210213T160000
DTSTAMP:20260425T183015
CREATED:20210214T000238Z
LAST-MODIFIED:20210214T000238Z
UID:6279-1613228400-1613232000@www.ayclogic.com
SUMMARY:3 PM - Scratch Level 1
DESCRIPTION:Today we:\n\nfinished the Funny Faces project\n\nlearned how to make the bowtie rotate\nchanged the background color\n\n\nstarted the Ask Gobo project\n\n\nHomework:\n\nno homework 🙂
URL:https://www.ayclogic.com/event/3-pm-scratch-level-1-13/
CATEGORIES:Scratch Class,Scratch Class Level 1
END:VEVENT
BEGIN:VEVENT
DTSTART;TZID=America/Los_Angeles:20210213T160000
DTEND;TZID=America/Los_Angeles:20210213T170000
DTSTAMP:20260425T183015
CREATED:20210214T021706Z
LAST-MODIFIED:20210214T021706Z
UID:6282-1613232000-1613235600@www.ayclogic.com
SUMMARY:4 PM - Introduction to Python - Nathaniel
DESCRIPTION:Today we went over:\n\nIf/elif/else homework (Pgs. 79-81)\nUser inputs\, converting data types\, if/elif/else\n\n\nHomework:\n\nhttps://www.ayclogic.com/tell-me-your-age/\n\n\n\nIf you have any questions\, please feel free to email me at nathaniel@ayclogic.com!
URL:https://www.ayclogic.com/event/4-pm-introduction-to-python-nathaniel-2/
CATEGORIES:Python Level 1
END:VEVENT
BEGIN:VEVENT
DTSTART;TZID=America/Los_Angeles:20210213T170000
DTEND;TZID=America/Los_Angeles:20210213T180000
DTSTAMP:20260425T183015
CREATED:20210214T022135Z
LAST-MODIFIED:20210214T022135Z
UID:6284-1613235600-1613239200@www.ayclogic.com
SUMMARY:5 PM - Introduction to Python - Nathaniel
DESCRIPTION:Today we went over:\n\nSummary of hangman\, going through strings with a loop\nIdentifying and Fixing Python Errors\nReading error messages\n\n\nHomework:\n\nComplete FindALetterInAWord.py (located in google drive)\nhttps://www.ayclogic.com/fixing-python-bugs/\n\n\n\nIf you have any questions\, please feel free to email me at nathaniel@ayclogic.com!
URL:https://www.ayclogic.com/event/5-pm-introduction-to-python-nathaniel-2/
CATEGORIES:Python Level 1
END:VEVENT
END:VCALENDAR