BEGIN:VCALENDAR
VERSION:2.0
PRODID:-//American Young Coder - ECPv6.10.1.1//NONSGML v1.0//EN
CALSCALE:GREGORIAN
METHOD:PUBLISH
X-ORIGINAL-URL:https://www.ayclogic.com
X-WR-CALDESC:Events for American Young Coder
REFRESH-INTERVAL;VALUE=DURATION:PT1H
X-Robots-Tag:noindex
X-PUBLISHED-TTL:PT1H
BEGIN:VTIMEZONE
TZID:America/Los_Angeles
BEGIN:DAYLIGHT
TZOFFSETFROM:-0800
TZOFFSETTO:-0700
TZNAME:PDT
DTSTART:20210314T100000
END:DAYLIGHT
BEGIN:STANDARD
TZOFFSETFROM:-0700
TZOFFSETTO:-0800
TZNAME:PST
DTSTART:20211107T090000
END:STANDARD
END:VTIMEZONE
BEGIN:VEVENT
DTSTART;TZID=America/Los_Angeles:20210215T173000
DTEND;TZID=America/Los_Angeles:20210215T183000
DTSTAMP:20260425T183631
CREATED:20210216T025640Z
LAST-MODIFIED:20210216T025824Z
UID:6293-1613410200-1613413800@www.ayclogic.com
SUMMARY:5:30PM - Beginner Digital Illustration
DESCRIPTION:MONDAY CLASS \nToday we started the Simba project\, by mapping out the shapes that make Simba\, and starting on the lines. There is no homework this week\, but please make sure your Simba is caught up to what we did in class\, so we can continue together next class. \nWhat we did in class today: \n< Goal by class \nHelpful references:
URL:https://www.ayclogic.com/event/530pm-beginner-digital-illustration/
CATEGORIES:Beginner Digital Illustration,Digital Illustration
END:VEVENT
END:VCALENDAR