BEGIN:VCALENDAR
VERSION:2.0
PRODID:-//American Young Coder - ECPv6.10.1.1//NONSGML v1.0//EN
CALSCALE:GREGORIAN
METHOD:PUBLISH
X-ORIGINAL-URL:https://www.ayclogic.com
X-WR-CALDESC:Events for American Young Coder
REFRESH-INTERVAL;VALUE=DURATION:PT1H
X-Robots-Tag:noindex
X-PUBLISHED-TTL:PT1H
BEGIN:VTIMEZONE
TZID:America/Los_Angeles
BEGIN:DAYLIGHT
TZOFFSETFROM:-0800
TZOFFSETTO:-0700
TZNAME:PDT
DTSTART:20210314T100000
END:DAYLIGHT
BEGIN:STANDARD
TZOFFSETFROM:-0700
TZOFFSETTO:-0800
TZNAME:PST
DTSTART:20211107T090000
END:STANDARD
END:VTIMEZONE
BEGIN:VEVENT
DTSTART;TZID=America/Los_Angeles:20210228T090000
DTEND;TZID=America/Los_Angeles:20210228T100000
DTSTAMP:20260425T125650
CREATED:20210228T180435Z
LAST-MODIFIED:20210228T180435Z
UID:6468-1614502800-1614506400@www.ayclogic.com
SUMMARY:9 AM - Intro To Java
DESCRIPTION:Homework:\n\nAfter login is successful\, present this menu to user\n\nLogin successful\n1. Inbox\n2. Create a new email\nPlease enter your selection: 2\n\nCREATE NEW EMAIL\nTo: bill@gmail.com\nSubject: Bill you did not do your homework\nMessage: Bill you failed the class because you did not do your homework\n\nIn the EmailMain.java\n\nAdd List<Message> messages.\nAfter user create a new Email\, create a Message object and add it to the “messages” list.
URL:https://www.ayclogic.com/event/9-am-intro-to-java-13/
CATEGORIES:Introduction To Java,Java
END:VEVENT
BEGIN:VEVENT
DTSTART;TZID=America/Los_Angeles:20210228T130000
DTEND;TZID=America/Los_Angeles:20210228T140000
DTSTAMP:20260425T125650
CREATED:20210301T035639Z
LAST-MODIFIED:20210301T035639Z
UID:6471-1614517200-1614520800@www.ayclogic.com
SUMMARY:1 PM - Demo Coding Class
DESCRIPTION:Demo Coding Scratch Class
URL:https://www.ayclogic.com/event/1-pm-demo-coding-class/
CATEGORIES:Python Class,Python Game Development
END:VEVENT
END:VCALENDAR