BEGIN:VCALENDAR
VERSION:2.0
PRODID:-//American Young Coder - ECPv6.10.1.1//NONSGML v1.0//EN
CALSCALE:GREGORIAN
METHOD:PUBLISH
X-WR-CALNAME:American Young Coder
X-ORIGINAL-URL:https://www.ayclogic.com
X-WR-CALDESC:Events for American Young Coder
REFRESH-INTERVAL;VALUE=DURATION:PT1H
X-Robots-Tag:noindex
X-PUBLISHED-TTL:PT1H
BEGIN:VTIMEZONE
TZID:America/Los_Angeles
BEGIN:DAYLIGHT
TZOFFSETFROM:-0800
TZOFFSETTO:-0700
TZNAME:PDT
DTSTART:20210314T100000
END:DAYLIGHT
BEGIN:STANDARD
TZOFFSETFROM:-0700
TZOFFSETTO:-0800
TZNAME:PST
DTSTART:20211107T090000
END:STANDARD
END:VTIMEZONE
BEGIN:VEVENT
DTSTART;TZID=America/Los_Angeles:20210301T171500
DTEND;TZID=America/Los_Angeles:20210301T181500
DTSTAMP:20260425T125434
CREATED:20210302T025444Z
LAST-MODIFIED:20210302T025444Z
UID:6474-1614618900-1614622500@www.ayclogic.com
SUMMARY:5:15PM - Beginner Digital Illustration
DESCRIPTION:MONDAY CLASS \nToday we finished our Simba project and turned in the homework from last class\, which was adding a background for Simba. \nWe also started a new project to draw a chibi character. First we drew a base\, and we started on the lines as well. \nHOMEWORK : Just finish what we did in class\, so that we can be ready to go next time. You don’t have to do anything extra. \nHere are images to show how far we got in class\, and what your layers should look like.
URL:https://www.ayclogic.com/event/515pm-beginner-digital-illustration-3/
CATEGORIES:Beginner Digital Illustration,Digital Illustration
END:VEVENT
END:VCALENDAR