BEGIN:VCALENDAR
VERSION:2.0
PRODID:-//American Young Coder - ECPv6.10.1.1//NONSGML v1.0//EN
CALSCALE:GREGORIAN
METHOD:PUBLISH
X-ORIGINAL-URL:https://www.ayclogic.com
X-WR-CALDESC:Events for American Young Coder
REFRESH-INTERVAL;VALUE=DURATION:PT1H
X-Robots-Tag:noindex
X-PUBLISHED-TTL:PT1H
BEGIN:VTIMEZONE
TZID:America/Los_Angeles
BEGIN:DAYLIGHT
TZOFFSETFROM:-0800
TZOFFSETTO:-0700
TZNAME:PDT
DTSTART:20210314T100000
END:DAYLIGHT
BEGIN:STANDARD
TZOFFSETFROM:-0700
TZOFFSETTO:-0800
TZNAME:PST
DTSTART:20211107T090000
END:STANDARD
END:VTIMEZONE
BEGIN:VEVENT
DTSTART;TZID=America/Los_Angeles:20210302T153000
DTEND;TZID=America/Los_Angeles:20210302T163000
DTSTAMP:20260425T125650
CREATED:20210303T090555Z
LAST-MODIFIED:20210303T090555Z
UID:6486-1614699000-1614702600@www.ayclogic.com
SUMMARY:3:30PM - Python Game Development
DESCRIPTION:Today we Did:\n\nCreated Cloud class in cloud.py\nCreated config.py\nMade birds flap\n\n\nHomework:\n\nCreate the Player class in player.py. In main\, make create_player_group and add one instance of player to it\, then display it on the screen\n\n\n\nIf you have any questions\, please send an email to latisha@ayclogic.com
URL:https://www.ayclogic.com/event/330pm-python-game-development-8/
END:VEVENT
BEGIN:VEVENT
DTSTART;TZID=America/Los_Angeles:20210302T170000
DTEND;TZID=America/Los_Angeles:20210302T180000
DTSTAMP:20260425T125650
CREATED:20210303T091015Z
LAST-MODIFIED:20210303T091015Z
UID:6488-1614704400-1614708000@www.ayclogic.com
SUMMARY:5PM - Intro to Python
DESCRIPTION:Today we did:\n\nContinued working on Robot Builder\nCreated draw_left_arm function and drew using a for-loop\n\n\nHomework:\n\nCreate draw_right_arm function and call the function 3 times so that the drawing looks like the image below.\n\n\n\n \nIf you have any questions\, please send an email to latisha@ayclogic.com
URL:https://www.ayclogic.com/event/5pm-intro-to-python-8/
END:VEVENT
BEGIN:VEVENT
DTSTART;TZID=America/Los_Angeles:20210302T170000
DTEND;TZID=America/Los_Angeles:20210302T180000
DTSTAMP:20260425T125650
CREATED:20210306T001047Z
LAST-MODIFIED:20210306T001047Z
UID:6525-1614704400-1614708000@www.ayclogic.com
SUMMARY:5 PM Scratch Level 2
DESCRIPTION:Today we have progressed a lot with Doom on the Broom adding in the Forcefield as well as the bats.\nFor Homework:\n\nPlease do from pages 119-123 which is just creating more monsters.
URL:https://www.ayclogic.com/event/5-pm-scratch-level-2-37/
CATEGORIES:Scratch Class,Scratch Class Level 2
END:VEVENT
BEGIN:VEVENT
DTSTART;TZID=America/Los_Angeles:20210302T180000
DTEND;TZID=America/Los_Angeles:20210302T190000
DTSTAMP:20260425T125650
CREATED:20210303T050412Z
LAST-MODIFIED:20210303T050952Z
UID:6478-1614708000-1614711600@www.ayclogic.com
SUMMARY:6PM - Intermediate Digital Illustration
DESCRIPTION:TUESDAY CLASS \nToday we started a project to draw a Todoroki character bust (head and shoulders). \nWe started with a circle to lay out the head and face proportions\, and then proceeded to do a rough sketch of the character. \nWe got to finish the Line-Art by the end of class \n  \nHW #1 (this is what I talked about in class) \nPlease make TWO sketches. \n\nUse the HD Canvas (the same one we used in class).\nMake the sketches in two separate files.\nSketch two different characters.\nYou can use any head angle.\nThis is the same as the first step we did in class.\n\nFor sketching: Use a color that is not black. Dip Pen Brush\, size 8-10\, opacity ~60% \n  \nHW #2 –  CLICK HERE – Please answer some questions for me before class. \n  \nSample of sketch from today’s class:
URL:https://www.ayclogic.com/event/6pm-intermediate-digital-illustration-2/
CATEGORIES:Digital Illustration,Intermediate Digital Illustration
END:VEVENT
BEGIN:VEVENT
DTSTART;TZID=America/Los_Angeles:20210302T180000
DTEND;TZID=America/Los_Angeles:20210302T190000
DTSTAMP:20260425T125650
CREATED:20210305T041104Z
LAST-MODIFIED:20210305T041144Z
UID:6518-1614708000-1614711600@www.ayclogic.com
SUMMARY:6 PM - Advanced Python Game Development
DESCRIPTION:We created enemy_tank.py and the EnemyTank class inherits from Player class.\nWe override some methods in Player class so the EnemyTank can load its own set of images. This way the Player tank and the EnemyTank can look different.\nWe also did similar thing with the Turret.\nHomework:\n\nMake the enemy tank shoot bullet when user press SPACE key.
URL:https://www.ayclogic.com/event/6-pm-advanced-python-game-development-5/
CATEGORIES:Python Class,Python Game Development
END:VEVENT
END:VCALENDAR