BEGIN:VCALENDAR
VERSION:2.0
PRODID:-//American Young Coder - ECPv6.10.1.1//NONSGML v1.0//EN
CALSCALE:GREGORIAN
METHOD:PUBLISH
X-ORIGINAL-URL:https://www.ayclogic.com
X-WR-CALDESC:Events for American Young Coder
REFRESH-INTERVAL;VALUE=DURATION:PT1H
X-Robots-Tag:noindex
X-PUBLISHED-TTL:PT1H
BEGIN:VTIMEZONE
TZID:America/Los_Angeles
BEGIN:DAYLIGHT
TZOFFSETFROM:-0800
TZOFFSETTO:-0700
TZNAME:PDT
DTSTART:20210314T100000
END:DAYLIGHT
BEGIN:STANDARD
TZOFFSETFROM:-0700
TZOFFSETTO:-0800
TZNAME:PST
DTSTART:20211107T090000
END:STANDARD
END:VTIMEZONE
BEGIN:VEVENT
DTSTART;TZID=America/Los_Angeles:20210305T130000
DTEND;TZID=America/Los_Angeles:20210305T140000
DTSTAMP:20260425T125724
CREATED:20210305T225338Z
LAST-MODIFIED:20210309T041607Z
UID:6520-1614949200-1614952800@www.ayclogic.com
SUMMARY:1 PM - Scratch Level 1
DESCRIPTION:Today we:\n\ncreated the sprites Nose and Bowtie\ncoded the sprites Hair\, Nose\, and Bowtie to stay in one place when the green flag is clicked\ncoded the Nose to forever switch costumes\ncoded the Bowtie to forever rotate\nadded the background\nfinished the Funny Faces project\n\n\nHomework:\n\nask your parents to print the image attached for next week’s class\nbring a pencil to next week’s class\n\n\n\n 
URL:https://www.ayclogic.com/event/1-pm-scratch-level-1-9/
CATEGORIES:Scratch Class,Scratch Class Level 1
END:VEVENT
BEGIN:VEVENT
DTSTART;TZID=America/Los_Angeles:20210305T180000
DTEND;TZID=America/Los_Angeles:20210305T190000
DTSTAMP:20260425T125724
CREATED:20210306T233125Z
LAST-MODIFIED:20210306T233140Z
UID:6539-1614967200-1614970800@www.ayclogic.com
SUMMARY:6 PM - Python Game Development
DESCRIPTION:Continued making progress on final project:\n\nVirus Zombie\n\nWe made the Zombie able to spawn\nWe made the Zombie able to not move with the map.\nWe fixed the problem with the player not able to move left and right.\n\n\nTank War\n\n\n Homework:\n\nContinue to make progress on the final project according to the project planning document.
URL:https://www.ayclogic.com/event/6-pm-python-game-development-103/
CATEGORIES:Python Class,Python Game Development
END:VEVENT
BEGIN:VEVENT
DTSTART;TZID=America/Los_Angeles:20210305T190000
DTEND;TZID=America/Los_Angeles:20210305T200000
DTSTAMP:20260425T125724
CREATED:20210306T035636Z
LAST-MODIFIED:20210306T035716Z
UID:6528-1614970800-1614974400@www.ayclogic.com
SUMMARY:7 PM - Intro To Python
DESCRIPTION:Next week is 1st quiz\, please prepare the following\n\nYou need to have a gmail account.\nDuring the quiz\, you can use Thonny\, but you cannot look at previous exercises.\nStudy the following\n\nWhile loop\nFor loop\nFor loop using List\nList\nString built-in functions: lower()\, upper()\, title()\nIF ELSE ELIF statements\nString combination using F\nVariables and data types.\nHow to get an input from shell.
URL:https://www.ayclogic.com/event/7-pm-intro-to-python-22/
CATEGORIES:Python Class,Python Level 1
END:VEVENT
END:VCALENDAR