BEGIN:VCALENDAR
VERSION:2.0
PRODID:-//American Young Coder - ECPv6.10.1.1//NONSGML v1.0//EN
CALSCALE:GREGORIAN
METHOD:PUBLISH
X-WR-CALNAME:American Young Coder
X-ORIGINAL-URL:https://www.ayclogic.com
X-WR-CALDESC:Events for American Young Coder
REFRESH-INTERVAL;VALUE=DURATION:PT1H
X-Robots-Tag:noindex
X-PUBLISHED-TTL:PT1H
BEGIN:VTIMEZONE
TZID:America/Los_Angeles
BEGIN:DAYLIGHT
TZOFFSETFROM:-0800
TZOFFSETTO:-0700
TZNAME:PDT
DTSTART:20210314T100000
END:DAYLIGHT
BEGIN:STANDARD
TZOFFSETFROM:-0700
TZOFFSETTO:-0800
TZNAME:PST
DTSTART:20211107T090000
END:STANDARD
END:VTIMEZONE
BEGIN:VEVENT
DTSTART;TZID=America/Los_Angeles:20210307T090000
DTEND;TZID=America/Los_Angeles:20210307T100000
DTSTAMP:20260425T183000
CREATED:20210307T205824Z
LAST-MODIFIED:20210307T205824Z
UID:6554-1615107600-1615111200@www.ayclogic.com
SUMMARY:9 AM - Intro To Java
DESCRIPTION:We added a feature to save Accounts to file.\nHomework:\n\nComplete last week homework.\nWhen creating a new email\, from the “To” email\, you have to find existing account that match with the email and get its ID and create List<String> recipientIds as one of the parameter of the Message.
URL:https://www.ayclogic.com/event/9-am-intro-to-java-14/
CATEGORIES:Introduction To Java,Java
END:VEVENT
END:VCALENDAR