BEGIN:VCALENDAR
VERSION:2.0
PRODID:-//American Young Coder - ECPv6.10.1.1//NONSGML v1.0//EN
CALSCALE:GREGORIAN
METHOD:PUBLISH
X-ORIGINAL-URL:https://www.ayclogic.com
X-WR-CALDESC:Events for American Young Coder
REFRESH-INTERVAL;VALUE=DURATION:PT1H
X-Robots-Tag:noindex
X-PUBLISHED-TTL:PT1H
BEGIN:VTIMEZONE
TZID:America/Los_Angeles
BEGIN:DAYLIGHT
TZOFFSETFROM:-0800
TZOFFSETTO:-0700
TZNAME:PDT
DTSTART:20210314T100000
END:DAYLIGHT
BEGIN:STANDARD
TZOFFSETFROM:-0700
TZOFFSETTO:-0800
TZNAME:PST
DTSTART:20211107T090000
END:STANDARD
END:VTIMEZONE
BEGIN:VEVENT
DTSTART;TZID=America/Los_Angeles:20210308T170000
DTEND;TZID=America/Los_Angeles:20210308T180000
DTSTAMP:20260425T125649
CREATED:20210316T014328Z
LAST-MODIFIED:20210316T014328Z
UID:6670-1615222800-1615226400@www.ayclogic.com
SUMMARY:5PM - Intro to Python
DESCRIPTION:Today we did:\n\nFinished Robot Builder\nBegan learning how to write functions that draw unique faces\nHow to change the heading of rectangle\n\n\nHomework:\n\nNone
URL:https://www.ayclogic.com/event/5pm-intro-to-python-9/
END:VEVENT
BEGIN:VEVENT
DTSTART;TZID=America/Los_Angeles:20210308T171500
DTEND;TZID=America/Los_Angeles:20210308T181500
DTSTAMP:20260425T125649
CREATED:20210309T023728Z
LAST-MODIFIED:20210309T023728Z
UID:6568-1615223700-1615227300@www.ayclogic.com
SUMMARY:5:15PM - Beginner Digital Illustration
DESCRIPTION:MONDAY CLASS \nToday we finished Chibi Aang\, and started the cute kittens in various poses. \nHW \nUsing the Chibi-base we made last class\, draw another character that is not Aang. It can be a character you like from a show\, or something that you make up on your own. You can use the chibi base you made in class\, or you can use the one I made right here. \n \nTo use it\, save this image to your device. \nThen in ibisPaint\, choose the “import photo” option when starting a new canvas.
URL:https://www.ayclogic.com/event/515pm-beginner-digital-illustration-4/
CATEGORIES:Beginner Digital Illustration,Digital Illustration
END:VEVENT
END:VCALENDAR