BEGIN:VCALENDAR
VERSION:2.0
PRODID:-//American Young Coder - ECPv6.10.1.1//NONSGML v1.0//EN
CALSCALE:GREGORIAN
METHOD:PUBLISH
X-ORIGINAL-URL:https://www.ayclogic.com
X-WR-CALDESC:Events for American Young Coder
REFRESH-INTERVAL;VALUE=DURATION:PT1H
X-Robots-Tag:noindex
X-PUBLISHED-TTL:PT1H
BEGIN:VTIMEZONE
TZID:America/Los_Angeles
BEGIN:DAYLIGHT
TZOFFSETFROM:-0800
TZOFFSETTO:-0700
TZNAME:PDT
DTSTART:20210314T100000
END:DAYLIGHT
BEGIN:STANDARD
TZOFFSETFROM:-0700
TZOFFSETTO:-0800
TZNAME:PST
DTSTART:20211107T090000
END:STANDARD
END:VTIMEZONE
BEGIN:VEVENT
DTSTART;TZID=America/Los_Angeles:20210315T171500
DTEND;TZID=America/Los_Angeles:20210315T181500
DTSTAMP:20260425T183332
CREATED:20210316T013736Z
LAST-MODIFIED:20210316T013809Z
UID:6667-1615828500-1615832100@www.ayclogic.com
SUMMARY:5:15 PM - Beginner Digital Illustration
DESCRIPTION:MONDAY CLASS \nToday we finished the drawing of the cartoon Kittens in four poses. – We learned how to use the TRANSFORM tool to move the different layers of Kittens around\, so that we can make room on the canvas to add more to our drawing. \nWe also started a new project of drawing a Puppy from a real life photo reference. – We learned how to add an image from our photo library to the canvas to use as a part of our drawing. We finished the outline of the Puppy during class so far. \nHOMEWORK \n\nEveryone: Add another Kitten with a different pose to the same canvas we used in class to draw all the other Kittens. Make sure to use a new layer for both the lines and the color\, and then merge them together into one layer.\nThe kids who didn’t finish last week’s HW: Please do last week’s homework. You can find all the information on last week’s event post on March 8th.
URL:https://www.ayclogic.com/event/515-pm-beginner-digital-illustration/
CATEGORIES:Beginner Digital Illustration,Digital Illustration
END:VEVENT
END:VCALENDAR