BEGIN:VCALENDAR
VERSION:2.0
PRODID:-//American Young Coder - ECPv6.10.1.1//NONSGML v1.0//EN
CALSCALE:GREGORIAN
METHOD:PUBLISH
X-ORIGINAL-URL:https://www.ayclogic.com
X-WR-CALDESC:Events for American Young Coder
REFRESH-INTERVAL;VALUE=DURATION:PT1H
X-Robots-Tag:noindex
X-PUBLISHED-TTL:PT1H
BEGIN:VTIMEZONE
TZID:America/Los_Angeles
BEGIN:DAYLIGHT
TZOFFSETFROM:-0800
TZOFFSETTO:-0700
TZNAME:PDT
DTSTART:20210314T100000
END:DAYLIGHT
BEGIN:STANDARD
TZOFFSETFROM:-0700
TZOFFSETTO:-0800
TZNAME:PST
DTSTART:20211107T090000
END:STANDARD
END:VTIMEZONE
BEGIN:VEVENT
DTSTART;TZID=America/Los_Angeles:20210317T170000
DTEND;TZID=America/Los_Angeles:20210317T180000
DTSTAMP:20260425T183539
CREATED:20210318T010717Z
LAST-MODIFIED:20210318T010717Z
UID:6694-1616000400-1616004000@www.ayclogic.com
SUMMARY:5 pm Scratch Level 2
DESCRIPTION:Today We; \n\nContinued the Doom on the Broom Project\nFixed the problems with the force field\nCreated new Forcefield Hippo sprite\nMade it so the new Hippo is yellow and gives Forcefields when it touches the witch\nMade hippos spawn less frequently and later in the game\nFixed up some code\nPut some finishing touches on project\nFinished the Doom on the Broom Project\nFixed Student’s bugs and answered questions\n\nYour HW: \n\nNone
URL:https://www.ayclogic.com/event/5-pm-scratch-level-2-39/
END:VEVENT
BEGIN:VEVENT
DTSTART;TZID=America/Los_Angeles:20210317T170000
DTEND;TZID=America/Los_Angeles:20210317T180000
DTSTAMP:20260425T183539
CREATED:20210318T011237Z
LAST-MODIFIED:20210318T011336Z
UID:6696-1616000400-1616004000@www.ayclogic.com
SUMMARY:5PM - Beginner Digital Illustration
DESCRIPTION:WEDNESDAY CLASS \nWe started on a new project today called Shield and Hammer\, and we learned to use lots of different types of rulers in iBisPaintX. \nImage for Review: \n \nHomework: \nNo new homework today. If you missed last week’s homework\, please do that one and I will check it next class.
URL:https://www.ayclogic.com/event/5pm-beginner-digital-illustration-11/
CATEGORIES:Beginner Digital Illustration,Digital Illustration
END:VEVENT
BEGIN:VEVENT
DTSTART;TZID=America/Los_Angeles:20210317T180000
DTEND;TZID=America/Los_Angeles:20210317T190000
DTSTAMP:20260425T183539
CREATED:20210318T015834Z
LAST-MODIFIED:20210318T032230Z
UID:6706-1616004000-1616007600@www.ayclogic.com
SUMMARY:6 PM - Python Game Development
DESCRIPTION:Today we setup pycharm and created the Birdie project.\nWe loaded the background and bird image to the screen.\nI’ve uploaded the code here.\nHomework:\n\nLoad the green bird to the screen. Follow the first example with the blue bird. Also figure out how the location parameter works.
URL:https://www.ayclogic.com/event/6-pm-python-game-development-107/
END:VEVENT
BEGIN:VEVENT
DTSTART;TZID=America/Los_Angeles:20210317T190000
DTEND;TZID=America/Los_Angeles:20210317T200000
DTSTAMP:20260425T183539
CREATED:20210318T030602Z
LAST-MODIFIED:20210318T032241Z
UID:6708-1616007600-1616011200@www.ayclogic.com
SUMMARY:7 PM - Python Game Development
DESCRIPTION:We went over the homework to handle collision between fireball and bird.\nWe added a “score” based on how many birds are killed.\nWe added two “modes”\, starting when the game isn’t in session and then switching to the player mode when the user clicks the mouse.\nI’ve uploaded the code here.\nHomework:\n\nCenter the “Play” button in the middle of the screen so the middle of the play button is in the middle of the screen.  Think about the geometry of the button: you need to use the width and height of the screen and the width and height of the play button.\nMake it so you get more points from killing the fast bird.
URL:https://www.ayclogic.com/event/7-pm-python-game-development-37/
END:VEVENT
END:VCALENDAR