BEGIN:VCALENDAR
VERSION:2.0
PRODID:-//American Young Coder - ECPv6.10.1.1//NONSGML v1.0//EN
CALSCALE:GREGORIAN
METHOD:PUBLISH
X-ORIGINAL-URL:https://www.ayclogic.com
X-WR-CALDESC:Events for American Young Coder
REFRESH-INTERVAL;VALUE=DURATION:PT1H
X-Robots-Tag:noindex
X-PUBLISHED-TTL:PT1H
BEGIN:VTIMEZONE
TZID:America/Los_Angeles
BEGIN:DAYLIGHT
TZOFFSETFROM:-0800
TZOFFSETTO:-0700
TZNAME:PDT
DTSTART:20210314T100000
END:DAYLIGHT
BEGIN:STANDARD
TZOFFSETFROM:-0700
TZOFFSETTO:-0800
TZNAME:PST
DTSTART:20211107T090000
END:STANDARD
END:VTIMEZONE
BEGIN:VEVENT
DTSTART;TZID=America/Los_Angeles:20210318T153000
DTEND;TZID=America/Los_Angeles:20210318T163000
DTSTAMP:20260425T125719
CREATED:20210321T053723Z
LAST-MODIFIED:20210321T053723Z
UID:6773-1616081400-1616085000@www.ayclogic.com
SUMMARY:3:30PM - Python Game Development
DESCRIPTION:Today we did:\n\nDeleted cloud Sprite when it goes off the screen\nMake Bird and Fireball disappear when they collide\n\n\nHomework:\n\nWhen Player collides with a Bird\, make the Player disappear.\n\n\n\nIf you have any questions\, please send an email to latisha@ayclogic.com
URL:https://www.ayclogic.com/event/330pm-python-game-development-13/
END:VEVENT
BEGIN:VEVENT
DTSTART;TZID=America/Los_Angeles:20210318T190000
DTEND;TZID=America/Los_Angeles:20210318T200000
DTSTAMP:20260425T125719
CREATED:20210326T003905Z
LAST-MODIFIED:20210326T005028Z
UID:6811-1616094000-1616097600@www.ayclogic.com
SUMMARY:7 PM - Python Game Development
DESCRIPTION:We added Birdie background music and reviewed the project.\nWe downloaded Flappy Duck Asset.\nHomework:\n\nOn Flappy Duck project\, do the following\n\nChange pygame_class_template.py to main.py.\nChange ChangeMe class to FlappyDuck using “refactor > Rename”\nRun the project.
URL:https://www.ayclogic.com/event/7-pm-python-game-development-39/
CATEGORIES:Python Class,Python Game Development
END:VEVENT
END:VCALENDAR