BEGIN:VCALENDAR
VERSION:2.0
PRODID:-//American Young Coder - ECPv6.10.1.1//NONSGML v1.0//EN
CALSCALE:GREGORIAN
METHOD:PUBLISH
X-ORIGINAL-URL:https://www.ayclogic.com
X-WR-CALDESC:Events for American Young Coder
REFRESH-INTERVAL;VALUE=DURATION:PT1H
X-Robots-Tag:noindex
X-PUBLISHED-TTL:PT1H
BEGIN:VTIMEZONE
TZID:America/Los_Angeles
BEGIN:DAYLIGHT
TZOFFSETFROM:-0800
TZOFFSETTO:-0700
TZNAME:PDT
DTSTART:20210314T100000
END:DAYLIGHT
BEGIN:STANDARD
TZOFFSETFROM:-0700
TZOFFSETTO:-0800
TZNAME:PST
DTSTART:20211107T090000
END:STANDARD
END:VTIMEZONE
BEGIN:VEVENT
DTSTART;TZID=America/Los_Angeles:20210323T153000
DTEND;TZID=America/Los_Angeles:20210323T163000
DTSTAMP:20260425T125719
CREATED:20210324T192615Z
LAST-MODIFIED:20210324T192615Z
UID:6794-1616513400-1616517000@www.ayclogic.com
SUMMARY:3:30PM - Python Game Development
DESCRIPTION:Today we did:\n\nCreated a hitbox for the player\nAdded a score whenever the player hits a bird with a fireball\nDisplay the score to the screen\nCreated delay for shooting fireball\n\n\nHomework:\n\nMake Clouds be able to come in from the left or the right\n\n\n\nIf you have any questions\, please send an email to latisha@ayclogic.com
URL:https://www.ayclogic.com/event/330pm-python-game-development-14/
END:VEVENT
BEGIN:VEVENT
DTSTART;TZID=America/Los_Angeles:20210323T170000
DTEND;TZID=America/Los_Angeles:20210323T180000
DTSTAMP:20260425T125719
CREATED:20210326T182538Z
LAST-MODIFIED:20210326T182538Z
UID:6823-1616518800-1616522400@www.ayclogic.com
SUMMARY:5 PM Scratch Level 2
DESCRIPTION:Today we started with the Fireball Fighting Project.\nFor Homework:\n\n Please get a background and two different characters of your choice.\nAlso get two different projectile sprites for your two characters to fight each other with.
URL:https://www.ayclogic.com/event/5-pm-scratch-level-2-41/
CATEGORIES:Scratch Class,Scratch Class Level 2
END:VEVENT
BEGIN:VEVENT
DTSTART;TZID=America/Los_Angeles:20210323T170000
DTEND;TZID=America/Los_Angeles:20210323T180000
DTSTAMP:20260425T125719
CREATED:20210326T183604Z
LAST-MODIFIED:20210326T183604Z
UID:6828-1616518800-1616522400@www.ayclogic.com
SUMMARY:5PM - Intro to Python
DESCRIPTION:Today we did:\n\nFinished polygon function\nDrew face 2\nBegan Kaleido Spiral\n\n\nHomework:\n\nWork on final project\n\n\n\nIf you have any questions\, please send an email to latisha@ayclogic.cm
URL:https://www.ayclogic.com/event/5pm-intro-to-python-11/
END:VEVENT
BEGIN:VEVENT
DTSTART;TZID=America/Los_Angeles:20210323T180000
DTEND;TZID=America/Los_Angeles:20210323T190000
DTSTAMP:20260425T125719
CREATED:20210324T021610Z
LAST-MODIFIED:20210324T021610Z
UID:6791-1616522400-1616526000@www.ayclogic.com
SUMMARY:6PM - Intermediate Digital Illustration
DESCRIPTION:TUESDAY CLASS \nToday we started a new project to draw a bust (head+shoulders/chest) of the character Starfire from Teen Titans\, in a peace sign pose. We spent the class sketching the character\, doing a different head position from the last project (Todoroki) and adding a hand pose. \nHomework \nFinish the lines of the drawing. Please take your time with this step\, doing careful and clean lines. By next class\, have the lines all finished\, so that we can move on to the next step\, which is coloring and shading. \nAll students also fix any iPad screen sharing issues before next class.
URL:https://www.ayclogic.com/event/6pm-intermediate-digital-illustration-5/
CATEGORIES:Digital Illustration,Intermediate Digital Illustration
END:VEVENT
BEGIN:VEVENT
DTSTART;TZID=America/Los_Angeles:20210323T180000
DTEND;TZID=America/Los_Angeles:20210323T190000
DTSTAMP:20260425T125719
CREATED:20210326T004250Z
LAST-MODIFIED:20210326T004250Z
UID:6813-1616522400-1616526000@www.ayclogic.com
SUMMARY:6 PM - Advanced Python Game Development
DESCRIPTION:We enabled the enemy tank to find path towards the player.\nWe enabled shield on player.\nHomework:\n\nAdd collision detection between the shield and the bullet. The bullet should disappear.
URL:https://www.ayclogic.com/event/6-pm-advanced-python-game-development-7/
CATEGORIES:Python Class,Python Game Development
END:VEVENT
END:VCALENDAR