BEGIN:VCALENDAR
VERSION:2.0
PRODID:-//American Young Coder - ECPv6.10.1.1//NONSGML v1.0//EN
CALSCALE:GREGORIAN
METHOD:PUBLISH
X-ORIGINAL-URL:https://www.ayclogic.com
X-WR-CALDESC:Events for American Young Coder
REFRESH-INTERVAL;VALUE=DURATION:PT1H
X-Robots-Tag:noindex
X-PUBLISHED-TTL:PT1H
BEGIN:VTIMEZONE
TZID:America/Los_Angeles
BEGIN:DAYLIGHT
TZOFFSETFROM:-0800
TZOFFSETTO:-0700
TZNAME:PDT
DTSTART:20210314T100000
END:DAYLIGHT
BEGIN:STANDARD
TZOFFSETFROM:-0700
TZOFFSETTO:-0800
TZNAME:PST
DTSTART:20211107T090000
END:STANDARD
END:VTIMEZONE
BEGIN:VEVENT
DTSTART;TZID=America/Los_Angeles:20210325T153000
DTEND;TZID=America/Los_Angeles:20210325T163000
DTSTAMP:20260425T183630
CREATED:20210326T183424Z
LAST-MODIFIED:20210326T183424Z
UID:6826-1616686200-1616689800@www.ayclogic.com
SUMMARY:3:30PM - Python Game Development
DESCRIPTION:Today we did:\n\nMade Clouds come from right to left\nMade Player disappear when Bird got hit\nAdded game modes: Start screen and Game-In-Session mode\n\n\nHomework:\n\nNone\n\n\n\nIf you have any questions\, please send an email to latisha@ayclogic.com
URL:https://www.ayclogic.com/event/330pm-python-game-development-15/
END:VEVENT
BEGIN:VEVENT
DTSTART;TZID=America/Los_Angeles:20210325T180000
DTEND;TZID=America/Los_Angeles:20210325T190000
DTSTAMP:20260425T183630
CREATED:20210326T015738Z
LAST-MODIFIED:20210326T015738Z
UID:6817-1616695200-1616698800@www.ayclogic.com
SUMMARY:6 PM - Advanced Python Game Development
DESCRIPTION:Fixed the problem with enemy tank get stuck because the player is going out of the screen.\nFixed the problem where the powerup spawn is not limited.\nAdded Enemy shield.\nHomework:\n\nWhen the player collide with enemy bullet\, the player health should be reduced by one.\nAdd player health counter on the top right corner. Font color should be blue.\nWhen the enemy collide with player bullet\, the enemy health should be reduced by one.\nAdd enemy health counter on the top left corner. Font color should orange.\nMake the shield disappear only after being hit 3 times.
URL:https://www.ayclogic.com/event/6-pm-advanced-python-game-development-8/
CATEGORIES:Python Class,Python Game Development
END:VEVENT
BEGIN:VEVENT
DTSTART;TZID=America/Los_Angeles:20210325T190000
DTEND;TZID=America/Los_Angeles:20210325T200000
DTSTAMP:20260425T183630
CREATED:20210326T031620Z
LAST-MODIFIED:20210326T031635Z
UID:6819-1616698800-1616702400@www.ayclogic.com
SUMMARY:7 PM - Python Game Development
DESCRIPTION:We started Flappy Duck project.\n\nWe added the background\nWe created config.py\nWe created tube.py and made Tube sprite appear on the screen.\n\n\nHomework:\n\nMake the Tube sprite appear from the right side of the screen and move to the left.\nCreate player.py and use “Green duck #1-01.png” image.\nIntegrate player.py into main\,py and make it appear on the screen.
URL:https://www.ayclogic.com/event/7-pm-python-game-development-40/
CATEGORIES:Python Class,Python Game Development
END:VEVENT
END:VCALENDAR