BEGIN:VCALENDAR
VERSION:2.0
PRODID:-//American Young Coder - ECPv6.10.1.1//NONSGML v1.0//EN
CALSCALE:GREGORIAN
METHOD:PUBLISH
X-ORIGINAL-URL:https://www.ayclogic.com
X-WR-CALDESC:Events for American Young Coder
REFRESH-INTERVAL;VALUE=DURATION:PT1H
X-Robots-Tag:noindex
X-PUBLISHED-TTL:PT1H
BEGIN:VTIMEZONE
TZID:America/Los_Angeles
BEGIN:DAYLIGHT
TZOFFSETFROM:-0800
TZOFFSETTO:-0700
TZNAME:PDT
DTSTART:20210314T100000
END:DAYLIGHT
BEGIN:STANDARD
TZOFFSETFROM:-0700
TZOFFSETTO:-0800
TZNAME:PST
DTSTART:20211107T090000
END:STANDARD
END:VTIMEZONE
BEGIN:VEVENT
DTSTART;TZID=America/Los_Angeles:20210326T130000
DTEND;TZID=America/Los_Angeles:20210326T140000
DTSTAMP:20260425T141527
CREATED:20210327T014010Z
LAST-MODIFIED:20210327T014153Z
UID:6835-1616763600-1616767200@www.ayclogic.com
SUMMARY:1 PM - Scratch Level 1
DESCRIPTION:Today we:\n\nstarted the Animal Crossing Project\nlearned how to make a sprite move from one coordinate to the opposite side\nlearned how to make a sprite glide from one coordinate to another coordinate\nadded a background\n\n\nHomework:\n\nno homework 🙂
URL:https://www.ayclogic.com/event/1-pm-scratch-level-1-12/
CATEGORIES:Scratch Class,Scratch Class Level 1
END:VEVENT
BEGIN:VEVENT
DTSTART;TZID=America/Los_Angeles:20210326T190000
DTEND;TZID=America/Los_Angeles:20210326T200000
DTSTAMP:20260425T141527
CREATED:20210402T185930Z
LAST-MODIFIED:20210402T185930Z
UID:6923-1616785200-1616788800@www.ayclogic.com
SUMMARY:7 PM - Intro To Python
DESCRIPTION:Homework:\n\nCreate March26_FunctionsWithReturnValue.py file\nDo homework from page 139\nDo only the first question from https://www.ayclogic.com/intro-to-python/star-wars-problem/
URL:https://www.ayclogic.com/event/7-pm-intro-to-python-25/
CATEGORIES:Python Class,Python Level 1
END:VEVENT
END:VCALENDAR