BEGIN:VCALENDAR
VERSION:2.0
PRODID:-//American Young Coder - ECPv6.10.1.1//NONSGML v1.0//EN
CALSCALE:GREGORIAN
METHOD:PUBLISH
X-ORIGINAL-URL:https://www.ayclogic.com
X-WR-CALDESC:Events for American Young Coder
REFRESH-INTERVAL;VALUE=DURATION:PT1H
X-Robots-Tag:noindex
X-PUBLISHED-TTL:PT1H
BEGIN:VTIMEZONE
TZID:America/Los_Angeles
BEGIN:DAYLIGHT
TZOFFSETFROM:-0800
TZOFFSETTO:-0700
TZNAME:PDT
DTSTART:20210314T100000
END:DAYLIGHT
BEGIN:STANDARD
TZOFFSETFROM:-0700
TZOFFSETTO:-0800
TZNAME:PST
DTSTART:20211107T090000
END:STANDARD
END:VTIMEZONE
BEGIN:VEVENT
DTSTART;TZID=America/Los_Angeles:20210327T090000
DTEND;TZID=America/Los_Angeles:20210327T100000
DTSTAMP:20260425T141527
CREATED:20210327T180814Z
LAST-MODIFIED:20210327T180814Z
UID:6849-1616835600-1616839200@www.ayclogic.com
SUMMARY:9 AM - Python Game Development
DESCRIPTION:We made the Duck flaps its wings.\nWe made the Coin dances.\nWe made the Duck flaps its wings not too fast\nHomework:\n\nRight now the Coin changes the costume too fast. Make it slower.\nAdd hit box to both player and the tube. If they collide the player should disappear.
URL:https://www.ayclogic.com/event/9-am-python-game-development-49/
CATEGORIES:Python Class,Python Game Development
END:VEVENT
BEGIN:VEVENT
DTSTART;TZID=America/Los_Angeles:20210327T100000
DTEND;TZID=America/Los_Angeles:20210327T110000
DTSTAMP:20260425T141527
CREATED:20210327T041022Z
LAST-MODIFIED:20210327T041158Z
UID:6838-1616839200-1616842800@www.ayclogic.com
SUMMARY:SAT - 10 AM - INDO - Gamas - Scratch 1
DESCRIPTION:We completed Dino Dance project.\nWe started on Animal Race project.\n\nWe learned about variable\nWe added Dog sprite\nWe added Dog Start sprite.\n\n\nHomework:\n\nDo page 53 to 55 from the pink book. If you don’t have the book yet\, please look at the screenshots below. \n\n\n\n 
URL:https://www.ayclogic.com/event/sat-10-am-indo-gamas-scratch-1/
CATEGORIES:Scratch Class,Scratch Class Level 1
END:VEVENT
BEGIN:VEVENT
DTSTART;TZID=America/Los_Angeles:20210327T100000
DTEND;TZID=America/Los_Angeles:20210327T110000
DTSTAMP:20260425T141527
CREATED:20210327T042115Z
LAST-MODIFIED:20210331T025130Z
UID:6839-1616839200-1616842800@www.ayclogic.com
SUMMARY:SAT - 10 AM - INDO - Bill Han - Scratch 1
DESCRIPTION:Today We: \n\nFinished the Dino Dance Project\n\nClass Project Link: https://scratch.mit.edu/projects/504528844/editor/\n\n\nStarted the New Animal Race project\n\nClass Project Link: https://scratch.mit.edu/projects/508042076/editor/\n\n\nCreated the cat\nMade the cat countdown using a variable\nLearned about variables.\n\nYour HW: \n\nMake Sure your Dino Dance is working fine and check it with the Class Project\nStart working on the dog\, pg 51-52
URL:https://www.ayclogic.com/event/sat-10-am-indo-bill-han-scratch-1/
END:VEVENT
BEGIN:VEVENT
DTSTART;TZID=America/Los_Angeles:20210327T100000
DTEND;TZID=America/Los_Angeles:20210327T110000
DTSTAMP:20260425T141527
CREATED:20210327T180418Z
LAST-MODIFIED:20210327T180418Z
UID:6847-1616839200-1616842800@www.ayclogic.com
SUMMARY:10 AM - Python Game Development
DESCRIPTION:We continued with Shoot Balloon project\nWe added one balloon and target to the screen\nHomework:\n\nMake the balloon appears on the screen periodically\, one every 1 second.\nMake sure the balloon does not appear on the right of the screen.
URL:https://www.ayclogic.com/event/10-am-python-game-development-43/
CATEGORIES:Python Class,Python Game Development
END:VEVENT
BEGIN:VEVENT
DTSTART;TZID=America/Los_Angeles:20210327T100000
DTEND;TZID=America/Los_Angeles:20210327T110000
DTSTAMP:20260425T141527
CREATED:20210331T053232Z
LAST-MODIFIED:20210331T053232Z
UID:6884-1616839200-1616842800@www.ayclogic.com
SUMMARY:10AM - Intro to Python
DESCRIPTION:Today we Did:\n\nFinished the Robot Builder\nLearned how to draw circles\nLearned how to use Hexadecimal for colors\n\n\nHomework:\n\nPlease revise project proposal and email to latisha@ayclogic.com before class next week\n\n\n\nIf you have any questions\, please send an email to latisha@ayclogic.com
URL:https://www.ayclogic.com/event/10am-intro-to-python-25/
END:VEVENT
BEGIN:VEVENT
DTSTART;TZID=America/Los_Angeles:20210327T110000
DTEND;TZID=America/Los_Angeles:20210327T120000
DTSTAMP:20260425T141527
CREATED:20210327T191259Z
LAST-MODIFIED:20210327T191259Z
UID:6851-1616842800-1616846400@www.ayclogic.com
SUMMARY:11 am Scratch Level 1
DESCRIPTION:Today We: \n\nContinued the Fire Works project\nMade the fire works start fading out\nMade the fire works change colors while expanding\nMade the fire works start falling\nMade the fire work stars have a trail\n\nYour HW: \n\nImport the American flag gif image as a sprite\n\n\n\n\nMake it scroll through it’s costumes\nDownload the music below:\n\nhttps://www.ayclogic.com/wp-content/uploads/2019/03/the_star_spangled_banner_64kb.mp3
URL:https://www.ayclogic.com/event/11-am-scratch-level-1-25/
END:VEVENT
BEGIN:VEVENT
DTSTART;TZID=America/Los_Angeles:20210327T120000
DTEND;TZID=America/Los_Angeles:20210327T130000
DTSTAMP:20260425T141527
CREATED:20210327T200050Z
LAST-MODIFIED:20210327T200050Z
UID:6853-1616846400-1616850000@www.ayclogic.com
SUMMARY:12 PM - Python Game Development
DESCRIPTION:We continued with ShootBaloon game:\n\nWe made the bug appear properly and flaps its wing.\nWe could shoot the bug.\n\n\n Homework:\n\nCreate LANDING_PAGE and GAME_IN_SESSION mode in config.py.\nWhen your program first run\, set game_mode to LANDING_PAGE.\nWhen you click the play button\, set game_mode to GAME_IN_SESSION mode.\n\n\n\n 
URL:https://www.ayclogic.com/event/12-pm-python-game-development-20/
CATEGORIES:Python Class,Python Game Development
END:VEVENT
BEGIN:VEVENT
DTSTART;TZID=America/Los_Angeles:20210327T130000
DTEND;TZID=America/Los_Angeles:20210327T140000
DTSTAMP:20260425T141527
CREATED:20210327T205951Z
LAST-MODIFIED:20210327T211355Z
UID:6855-1616850000-1616853600@www.ayclogic.com
SUMMARY:1 PM - Python Game Development
DESCRIPTION:We went over the homework and fixed the offset for the cloud.\nWe added a rect attribute for the Bird and Fireball and drew them on the screen.\nWe added logic to detect collisions between the bird and fireball.\nI’ve uploaded the source code here.\nHomework:\n\nAdd rect attribute to the “Player” class and then draw it on the screen and make sure the rect is in sync with the player.\nThen add some logic to detect a collision between the player and the bird\, so the player dies when it gets hit by a bird.
URL:https://www.ayclogic.com/event/1-pm-python-game-development-16/
END:VEVENT
BEGIN:VEVENT
DTSTART;TZID=America/Los_Angeles:20210327T140000
DTEND;TZID=America/Los_Angeles:20210327T150000
DTSTAMP:20260425T141527
CREATED:20210327T221900Z
LAST-MODIFIED:20210327T221900Z
UID:6858-1616853600-1616857200@www.ayclogic.com
SUMMARY:2 PM - Minecraft Modding With Java
DESCRIPTION:We added Saturn item.\nWe started working on Saturn Ore\, but not complete.\nHomework:\n\nChange all of your existing recipes to use saturn as one of the ingredient.\nIf you did not do your homework last weeks\, please do them.
URL:https://www.ayclogic.com/event/2-pm-minecraft-modding-with-java-9/
CATEGORIES:Java,Minecraft Modding With Java
END:VEVENT
BEGIN:VEVENT
DTSTART;TZID=America/Los_Angeles:20210327T150000
DTEND;TZID=America/Los_Angeles:20210327T160000
DTSTAMP:20260425T141527
CREATED:20210330T003649Z
LAST-MODIFIED:20210330T003649Z
UID:6870-1616857200-1616860800@www.ayclogic.com
SUMMARY:3 PM - Scratch Level 1
DESCRIPTION:Today we:\n\ncontinued the Animal Crossing project\n\nlearned how to move sprites from one edge of the screen to the other edge\nlearned how to glide sprites from one edge of the screen to the other edge\n\n\nstarted the Birthday Card project\n\ncreated a button that goes to the middle of the screen\nmake the button change colors forever\n\n\n\n\nHomework:\n\ncomplete the rest of the codes in book pg. 84-86\ndo these codes in the Birthday Card project
URL:https://www.ayclogic.com/event/3-pm-scratch-level-1-21/
CATEGORIES:Scratch Class,Scratch Class Level 1
END:VEVENT
BEGIN:VEVENT
DTSTART;TZID=America/Los_Angeles:20210327T160000
DTEND;TZID=America/Los_Angeles:20210327T170000
DTSTAMP:20260425T141527
CREATED:20210328T032733Z
LAST-MODIFIED:20210328T032733Z
UID:6863-1616860800-1616864400@www.ayclogic.com
SUMMARY:4 PM - Introduction to Python - Nathaniel Lee
DESCRIPTION:Today we went over:\n\nThe last lesson for while loops\n\n\nHomework:\n\nPg. 123 7-4 and 7-5 (try it yourself section)\n\n\n\nIf you have any questions\, please feel free to email me at nathaniel@ayclogic.com!
URL:https://www.ayclogic.com/event/4-pm-introduction-to-python-nathaniel-lee-4/
CATEGORIES:Python Level 1
END:VEVENT
BEGIN:VEVENT
DTSTART;TZID=America/Los_Angeles:20210327T170000
DTEND;TZID=America/Los_Angeles:20210327T180000
DTSTAMP:20260425T141527
CREATED:20210328T033614Z
LAST-MODIFIED:20210328T033614Z
UID:6865-1616864400-1616868000@www.ayclogic.com
SUMMARY:5 PM - Introduction to Python - Nathaniel Lee
DESCRIPTION:Today we went over:\n\nAn introduction to Turtle in Python\nShowed how to use fill\, color\, goto\, penup\, pendown functions that help draw an image\nLearned how to use functions to create a rectangle\n\n\nHomework:\n\nContinue working on the Turtle python file that we’ve been going over during class. We’ve already added the feet and legs\, so now add the robot’s body and arms. An image of the completed robot can be found below.\n\n\n\n  \n \n  \nIf you have any questions\, please feel free to email me at nathaniel@ayclogic.com!
URL:https://www.ayclogic.com/event/5-pm-introduction-to-python-nathaniel-lee-2/
CATEGORIES:Python Level 1
END:VEVENT
BEGIN:VEVENT
DTSTART;TZID=America/Los_Angeles:20210327T180000
DTEND;TZID=America/Los_Angeles:20210327T190000
DTSTAMP:20260425T141527
CREATED:20210328T021641Z
LAST-MODIFIED:20210328T021641Z
UID:6860-1616868000-1616871600@www.ayclogic.com
SUMMARY:6 PM - Python Game Development
DESCRIPTION:When player died\, we display PLAY Button and title properly. We also make sure\, the birds are cleared from the screen when PLAY button is pressed\, score is reset and player spawn in the same location.\nWe added giant fireball.\nHomework:\n\nThe giant fireball needs to have its own sprite group.\nAfter giant fireball sprite group is created\, you need to detect collision between giant fireball and birds. When they collide\, only the bird should disappear.
URL:https://www.ayclogic.com/event/6-pm-python-game-development-111/
CATEGORIES:Python Class,Python Game Development
END:VEVENT
END:VCALENDAR