BEGIN:VCALENDAR
VERSION:2.0
PRODID:-//American Young Coder - ECPv6.10.1.1//NONSGML v1.0//EN
CALSCALE:GREGORIAN
METHOD:PUBLISH
X-ORIGINAL-URL:https://www.ayclogic.com
X-WR-CALDESC:Events for American Young Coder
REFRESH-INTERVAL;VALUE=DURATION:PT1H
X-Robots-Tag:noindex
X-PUBLISHED-TTL:PT1H
BEGIN:VTIMEZONE
TZID:America/Los_Angeles
BEGIN:DAYLIGHT
TZOFFSETFROM:-0800
TZOFFSETTO:-0700
TZNAME:PDT
DTSTART:20210314T100000
END:DAYLIGHT
BEGIN:STANDARD
TZOFFSETFROM:-0700
TZOFFSETTO:-0800
TZNAME:PST
DTSTART:20211107T090000
END:STANDARD
END:VTIMEZONE
BEGIN:VEVENT
DTSTART;TZID=America/Los_Angeles:20210328T090000
DTEND;TZID=America/Los_Angeles:20210328T100000
DTSTAMP:20260425T125724
CREATED:20210328T171221Z
LAST-MODIFIED:20210328T171221Z
UID:6868-1616922000-1616925600@www.ayclogic.com
SUMMARY:9 AM - Intro To Java
DESCRIPTION:We completed Email program in Java.\nWe reviewed the use of open-source Jackson JSON library.\nHomework:\n\nReview Email program that we have done and come up with questions.\nMake sure you guys understand how to loop through List.\nMake sure you guys understand how to create a Class.\nMake sure you guys understand what is constructor and getter and setter.\nMake sure you guys understand how to create methods.
URL:https://www.ayclogic.com/event/9-am-intro-to-java-16/
CATEGORIES:Introduction To Java,Java
END:VEVENT
BEGIN:VEVENT
DTSTART;TZID=America/Los_Angeles:20210328T190000
DTEND;TZID=America/Los_Angeles:20210328T200000
DTSTAMP:20260425T125724
CREATED:20210331T053608Z
LAST-MODIFIED:20210331T053608Z
UID:6887-1616958000-1616961600@www.ayclogic.com
SUMMARY:7PM - Intro to Python
DESCRIPTION:Today we learned:\n\nHow to use f-string concatenator\nHow to use \n and \t\nHow to use rstrip\, lstrip\, and strip\n\n\nHomework:\n\nDo pages 79-81 from the textbook (IntroToPythonPg79to81) in a file called March21_IfElseHomework.py (if you didn’t finish last week)\n\n\n\nIf you have any questions\, please send an email to latisha@ayclogic.com
URL:https://www.ayclogic.com/event/7pm-intro-to-python-7/
END:VEVENT
END:VCALENDAR