BEGIN:VCALENDAR
VERSION:2.0
PRODID:-//American Young Coder - ECPv6.10.1.1//NONSGML v1.0//EN
CALSCALE:GREGORIAN
METHOD:PUBLISH
X-ORIGINAL-URL:https://www.ayclogic.com
X-WR-CALDESC:Events for American Young Coder
REFRESH-INTERVAL;VALUE=DURATION:PT1H
X-Robots-Tag:noindex
X-PUBLISHED-TTL:PT1H
BEGIN:VTIMEZONE
TZID:America/Los_Angeles
BEGIN:DAYLIGHT
TZOFFSETFROM:-0800
TZOFFSETTO:-0700
TZNAME:PDT
DTSTART:20210314T100000
END:DAYLIGHT
BEGIN:STANDARD
TZOFFSETFROM:-0700
TZOFFSETTO:-0800
TZNAME:PST
DTSTART:20211107T090000
END:STANDARD
END:VTIMEZONE
BEGIN:VEVENT
DTSTART;TZID=America/Los_Angeles:20210330T153000
DTEND;TZID=America/Los_Angeles:20210330T163000
DTSTAMP:20260425T125649
CREATED:20210331T053840Z
LAST-MODIFIED:20210331T053840Z
UID:6889-1617118200-1617121800@www.ayclogic.com
SUMMARY:3:30PM - Python Game Development
DESCRIPTION:Today we did:\n\nCentered title and play button on screen\nRestricted play button clicking across a certain x-range\nMade game restart when user loses\nMade user reappear when game restarts\n\n\nHomework:\n\nRestrict play button clicking across a specific y-range\n\n\n\nIf you have any questions\, please send an email to latisha@ayclogic.com
URL:https://www.ayclogic.com/event/330pm-python-game-development-16/
END:VEVENT
BEGIN:VEVENT
DTSTART;TZID=America/Los_Angeles:20210330T160000
DTEND;TZID=America/Los_Angeles:20210330T170000
DTSTAMP:20260425T125649
CREATED:20210330T235204Z
LAST-MODIFIED:20210402T010950Z
UID:6875-1617120000-1617123600@www.ayclogic.com
SUMMARY:4 PM - Kevin Makeup
DESCRIPTION:Today we:\n\ncontinued the Animal Crossing project\n\nlearned how to move sprites from one edge of the screen to the other edge\nlearned how to glide sprites from one edge of the screen to the other edge\n\n\nstarted the Birthday Card project\n\ncreated a button that goes to the middle of the screen\nmake the button change colors forever\n\n\n\n\nHomework:\n\ncomplete the rest of the codes in book pg. 84-86 (Click on this link to see the book pages)\ndo these codes in the Birthday Card project
URL:https://www.ayclogic.com/event/4-pm-kevin-makeup/
CATEGORIES:Scratch Class,Scratch Class Level 1
END:VEVENT
BEGIN:VEVENT
DTSTART;TZID=America/Los_Angeles:20210330T170000
DTEND;TZID=America/Los_Angeles:20210330T180000
DTSTAMP:20260425T125649
CREATED:20210331T054825Z
LAST-MODIFIED:20210331T054825Z
UID:6891-1617123600-1617127200@www.ayclogic.com
SUMMARY:5PM - Intro to Python
DESCRIPTION:Today we did:\n\nEdit Circle function so that it will move forward and turn\nMade circles change colors every time a new one is drawn\nChange size of pen\n\n\nHomework:\n\nWork on final project or proposal\n\n\n\nIf you have any questions\, please send an email to latisha@ayclogic.com
URL:https://www.ayclogic.com/event/5pm-intro-to-python-12/
END:VEVENT
BEGIN:VEVENT
DTSTART;TZID=America/Los_Angeles:20210330T180000
DTEND;TZID=America/Los_Angeles:20210330T190000
DTSTAMP:20260425T125649
CREATED:20210331T025820Z
LAST-MODIFIED:20210331T025820Z
UID:6882-1617127200-1617130800@www.ayclogic.com
SUMMARY:6 PM - Advanced Python Game Development
DESCRIPTION:We completed Tank War game.
URL:https://www.ayclogic.com/event/6-pm-advanced-python-game-development-9/
CATEGORIES:Python Class,Python Game Development
END:VEVENT
BEGIN:VEVENT
DTSTART;TZID=America/Los_Angeles:20210330T180000
DTEND;TZID=America/Los_Angeles:20210330T190000
DTSTAMP:20260425T125649
CREATED:20210401T024355Z
LAST-MODIFIED:20210401T025507Z
UID:6903-1617127200-1617130800@www.ayclogic.com
SUMMARY:6PM - Intermediate Digital Illustration
DESCRIPTION:TUESDAY CLASS \nToday we finished the Starfire from Teen Titans drawing. We learned how to add shading and highlight to certain sections of color by using different layers and clipping layers to keep our brush strokes inside the lines. \nHomework \nPlease choose another character to draw in the same way we learned in class. Your character can face any direction except looking straight at the camera\, since that’s what most of us did for last time’s homework. Here are the steps to help you keep track of what you should do. \n\nSketching – using a soft and light colored brush\, sketching is used to figure our where all the shapes and features should be without having to be perfect.\nLines – New layer – Go over your sketch with a darker line. This time trying to make things smooth and clean. Use the Undo button or Eraser as you need.\nFlat Colors – New layer for each different section/part. (such as face/hair/clothes/etc)\nShading/Highlight – Selecting the layer/section you want to work on\, add a new layer on top of it\, and click the Clipping button to clip it to the layer below and keep the colors inside the section.\n\n \n\nGood luck!
URL:https://www.ayclogic.com/event/6pm-intermediate-digital-illustration-7/
CATEGORIES:Digital Illustration,Intermediate Digital Illustration
END:VEVENT
END:VCALENDAR