BEGIN:VCALENDAR
VERSION:2.0
PRODID:-//American Young Coder - ECPv6.10.1.1//NONSGML v1.0//EN
CALSCALE:GREGORIAN
METHOD:PUBLISH
X-ORIGINAL-URL:https://www.ayclogic.com
X-WR-CALDESC:Events for American Young Coder
REFRESH-INTERVAL;VALUE=DURATION:PT1H
X-Robots-Tag:noindex
X-PUBLISHED-TTL:PT1H
BEGIN:VTIMEZONE
TZID:America/Los_Angeles
BEGIN:DAYLIGHT
TZOFFSETFROM:-0800
TZOFFSETTO:-0700
TZNAME:PDT
DTSTART:20210314T100000
END:DAYLIGHT
BEGIN:STANDARD
TZOFFSETFROM:-0700
TZOFFSETTO:-0800
TZNAME:PST
DTSTART:20211107T090000
END:STANDARD
END:VTIMEZONE
BEGIN:VEVENT
DTSTART;TZID=America/Los_Angeles:20210402T140000
DTEND;TZID=America/Los_Angeles:20210402T150000
DTSTAMP:20260425T125629
CREATED:20210410T004420Z
LAST-MODIFIED:20210410T004420Z
UID:7003-1617372000-1617375600@www.ayclogic.com
SUMMARY:2 PM Scratch Level 2
DESCRIPTION:Today we were able to continue with the Fireball Fighting project and were able to add in the stars and apple.\nWe were also able to add in the giant fireball.\nFor Homework:\n\nPlease do the same giant fireball code in your second character and other projectile.
URL:https://www.ayclogic.com/event/2-pm-scratch-level-2-3/
CATEGORIES:Scratch Class,Scratch Class Level 2
END:VEVENT
BEGIN:VEVENT
DTSTART;TZID=America/Los_Angeles:20210402T190000
DTEND;TZID=America/Los_Angeles:20210402T200000
DTSTAMP:20260425T125629
CREATED:20210403T043245Z
LAST-MODIFIED:20210403T043245Z
UID:6930-1617390000-1617393600@www.ayclogic.com
SUMMARY:7 PM - Intro To Python
DESCRIPTION:We finished discussing about Function With Return value\,\nWe started learning how to generate random numbers and how to choose random element from List in Python.\nHomework:\n\nIn the same file that we did in the class April2_Magic8Ball.py\, change the code so it follows instruction in https://www.ayclogic.com/intro-to-python/magic-8-ball/
URL:https://www.ayclogic.com/event/7-pm-intro-to-python-26/
CATEGORIES:Python Class,Python Level 1
END:VEVENT
END:VCALENDAR