BEGIN:VCALENDAR
VERSION:2.0
PRODID:-//American Young Coder - ECPv6.10.1.1//NONSGML v1.0//EN
CALSCALE:GREGORIAN
METHOD:PUBLISH
X-WR-CALNAME:American Young Coder
X-ORIGINAL-URL:https://www.ayclogic.com
X-WR-CALDESC:Events for American Young Coder
REFRESH-INTERVAL;VALUE=DURATION:PT1H
X-Robots-Tag:noindex
X-PUBLISHED-TTL:PT1H
BEGIN:VTIMEZONE
TZID:America/Los_Angeles
BEGIN:DAYLIGHT
TZOFFSETFROM:-0800
TZOFFSETTO:-0700
TZNAME:PDT
DTSTART:20210314T100000
END:DAYLIGHT
BEGIN:STANDARD
TZOFFSETFROM:-0700
TZOFFSETTO:-0800
TZNAME:PST
DTSTART:20211107T090000
END:STANDARD
END:VTIMEZONE
BEGIN:VEVENT
DTSTART;TZID=America/Los_Angeles:20210426T170000
DTEND;TZID=America/Los_Angeles:20210426T180000
DTSTAMP:20260425T072424
CREATED:20210502T074843Z
LAST-MODIFIED:20210502T074843Z
UID:7443-1619456400-1619460000@www.ayclogic.com
SUMMARY:5PM - Beginner Digital Illustration
DESCRIPTION:MONDAY CLASS \nToday in class\, we continued the Four Flowers project\, and finished up the first flower\, the Hyacinth. Next class\, we will start on the Tulip. \n \nHOMEWORK \nJust fill out the questionnaire\, if you have not done it yet. > CLICK HERE < \n 
URL:https://www.ayclogic.com/event/5pm-beginner-digital-illustration-19/
CATEGORIES:Beginner Digital Illustration,Digital Illustration
END:VEVENT
END:VCALENDAR