BEGIN:VCALENDAR
VERSION:2.0
PRODID:-//American Young Coder - ECPv6.10.1.1//NONSGML v1.0//EN
CALSCALE:GREGORIAN
METHOD:PUBLISH
X-WR-CALNAME:American Young Coder
X-ORIGINAL-URL:https://www.ayclogic.com
X-WR-CALDESC:Events for American Young Coder
REFRESH-INTERVAL;VALUE=DURATION:PT1H
X-Robots-Tag:noindex
X-PUBLISHED-TTL:PT1H
BEGIN:VTIMEZONE
TZID:America/Los_Angeles
BEGIN:DAYLIGHT
TZOFFSETFROM:-0800
TZOFFSETTO:-0700
TZNAME:PDT
DTSTART:20210314T100000
END:DAYLIGHT
BEGIN:STANDARD
TZOFFSETFROM:-0700
TZOFFSETTO:-0800
TZNAME:PST
DTSTART:20211107T090000
END:STANDARD
END:VTIMEZONE
BEGIN:VEVENT
DTSTART;TZID=America/Los_Angeles:20210429T160000
DTEND;TZID=America/Los_Angeles:20210429T170000
DTSTAMP:20260425T125008
CREATED:20210504T012948Z
LAST-MODIFIED:20210504T012948Z
UID:7474-1619712000-1619715600@www.ayclogic.com
SUMMARY:4PM - Python Game Development
DESCRIPTION:Today we did:\n\nMade coin appear in between each tube\nMade coin appear either at the top or at the bottom\nCreated player controls + gravity\n\n\nHomework:\n\nCreate the landing page for FlappyDuck\, use Birdie as reference.\n\n\n\nIf you have any questions\, please send an email to latisha@ayclogic.com
URL:https://www.ayclogic.com/event/4pm-python-game-development-7/
END:VEVENT
BEGIN:VEVENT
DTSTART;TZID=America/Los_Angeles:20210429T170000
DTEND;TZID=America/Los_Angeles:20210429T180000
DTSTAMP:20260425T125008
CREATED:20210504T013251Z
LAST-MODIFIED:20210504T013251Z
UID:7477-1619715600-1619719200@www.ayclogic.com
SUMMARY:5PM - Intro to Python Makeup
DESCRIPTION:Today we learned:\n\nHow to use and / or with if statements\nHow to get user input\nHow to convert from string to int using int()\n\n\nHomework:\n\nDo pg 34-39 from the textbook in a file called Apr29_ListHomework.py
URL:https://www.ayclogic.com/event/5pm-intro-to-python-makeup/
END:VEVENT
BEGIN:VEVENT
DTSTART;TZID=America/Los_Angeles:20210429T180000
DTEND;TZID=America/Los_Angeles:20210429T190000
DTSTAMP:20260425T125008
CREATED:20210430T032853Z
LAST-MODIFIED:20210430T032853Z
UID:7392-1619719200-1619722800@www.ayclogic.com
SUMMARY:6 PM - Python Game Development
DESCRIPTION:We fixed the problem with setting all the moles to EMPTY_MODE after user click play button.\nWe fixed the score on the explode image.\nWack-A-Mole game is completed.
URL:https://www.ayclogic.com/event/6-pm-python-game-development-130/
CATEGORIES:Python Class,Python Game Development
END:VEVENT
BEGIN:VEVENT
DTSTART;TZID=America/Los_Angeles:20210429T190000
DTEND;TZID=America/Los_Angeles:20210429T200000
DTSTAMP:20260425T125008
CREATED:20210430T030856Z
LAST-MODIFIED:20210507T020419Z
UID:7390-1619722800-1619726400@www.ayclogic.com
SUMMARY:7 PM - Python Game Development
DESCRIPTION:We randomize coin to be on the top and the bottom location.\nWe enabled GAME_LANDING_PAGE and GAME_IN_SESSION.\nWe added the ability for the player to jump.\nWe added hitbox (rect) to the player.\nHomework:\n\nDetect collision between player and tube. Look at how we detect collision between player and bird in Birdie project.\nWhen they collide\, switch the game_mode to GAME_LANDING_PAGE.\nDetect collision between player and coin. When they collide\, increase score class attribute. Look at how we increase score in Birdie when the fireball hit the bird.
URL:https://www.ayclogic.com/event/7-pm-python-game-development-50/
CATEGORIES:Python Class,Python Game Development
END:VEVENT
END:VCALENDAR