BEGIN:VCALENDAR
VERSION:2.0
PRODID:-//American Young Coder - ECPv6.10.1.1//NONSGML v1.0//EN
CALSCALE:GREGORIAN
METHOD:PUBLISH
X-WR-CALNAME:American Young Coder
X-ORIGINAL-URL:https://www.ayclogic.com
X-WR-CALDESC:Events for American Young Coder
REFRESH-INTERVAL;VALUE=DURATION:PT1H
X-Robots-Tag:noindex
X-PUBLISHED-TTL:PT1H
BEGIN:VTIMEZONE
TZID:America/Los_Angeles
BEGIN:DAYLIGHT
TZOFFSETFROM:-0800
TZOFFSETTO:-0700
TZNAME:PDT
DTSTART:20210314T100000
END:DAYLIGHT
BEGIN:STANDARD
TZOFFSETFROM:-0700
TZOFFSETTO:-0800
TZNAME:PST
DTSTART:20211107T090000
END:STANDARD
END:VTIMEZONE
BEGIN:VEVENT
DTSTART;TZID=America/Los_Angeles:20210502T090000
DTEND;TZID=America/Los_Angeles:20210502T100000
DTSTAMP:20260425T083911
CREATED:20210505T044359Z
LAST-MODIFIED:20210505T044359Z
UID:7514-1619946000-1619949600@www.ayclogic.com
SUMMARY:9 AM - Intro To Java
DESCRIPTION:We continued with Monster System project.\nHomework:\n\nWe are going to do some Java Inheritance next week. Please watch this video before the class: https://www.youtube.com/watch?v=9JpNY-XAseg
URL:https://www.ayclogic.com/event/9-am-intro-to-java-19/
CATEGORIES:Introduction To Java,Java
END:VEVENT
BEGIN:VEVENT
DTSTART;TZID=America/Los_Angeles:20210502T190000
DTEND;TZID=America/Los_Angeles:20210502T200000
DTSTAMP:20260425T083911
CREATED:20210506T050614Z
LAST-MODIFIED:20210506T050614Z
UID:7539-1619982000-1619985600@www.ayclogic.com
SUMMARY:7PM - Intro to Python
DESCRIPTION:Today we learned:\n\nHow to make a list\nHow to add to a list\nHow to change elements in a list\nHow to remove elements from a list\n\n\nHomework:\n\npg. 50-52 from the textbook in a file called May2_ListForLoopHomework.py\npg. 57-59 from the textbook in a file called May2_ForLoopHomework.py\n\n\n\nIf you have any questions\, please send an email to latisha@ayclogic.com
URL:https://www.ayclogic.com/event/7pm-intro-to-python-12/
END:VEVENT
END:VCALENDAR