BEGIN:VCALENDAR
VERSION:2.0
PRODID:-//American Young Coder - ECPv6.10.1.1//NONSGML v1.0//EN
CALSCALE:GREGORIAN
METHOD:PUBLISH
X-ORIGINAL-URL:https://www.ayclogic.com
X-WR-CALDESC:Events for American Young Coder
REFRESH-INTERVAL;VALUE=DURATION:PT1H
X-Robots-Tag:noindex
X-PUBLISHED-TTL:PT1H
BEGIN:VTIMEZONE
TZID:America/Los_Angeles
BEGIN:DAYLIGHT
TZOFFSETFROM:-0800
TZOFFSETTO:-0700
TZNAME:PDT
DTSTART:20210314T100000
END:DAYLIGHT
BEGIN:STANDARD
TZOFFSETFROM:-0700
TZOFFSETTO:-0800
TZNAME:PST
DTSTART:20211107T090000
END:STANDARD
END:VTIMEZONE
BEGIN:VEVENT
DTSTART;TZID=America/Los_Angeles:20210503T170000
DTEND;TZID=America/Los_Angeles:20210503T180000
DTSTAMP:20260425T084037
CREATED:20210504T012826Z
LAST-MODIFIED:20210504T013026Z
UID:7470-1620061200-1620064800@www.ayclogic.com
SUMMARY:5PM - Beginner Digital Illustration
DESCRIPTION:MONDAY CLASS \n \nToday we finished the Tulip flower\, and we started on the Mucari flower. \nWe used the Duplicate Layer tool often\, to make multiples of the same shape instead of drawing it many times. \nHOMEWORK \nTo finish the Muscari flower heads\, and transform them into the right size and place. And add the pot for the Muscari flowers. Refer to the images below for a more detailed breakdown of the steps for the homework. \n \n 
URL:https://www.ayclogic.com/event/5pm-beginner-digital-illustration-21/
CATEGORIES:Beginner Digital Illustration,Digital Illustration
END:VEVENT
END:VCALENDAR