BEGIN:VCALENDAR
VERSION:2.0
PRODID:-//American Young Coder - ECPv6.10.1.1//NONSGML v1.0//EN
CALSCALE:GREGORIAN
METHOD:PUBLISH
X-ORIGINAL-URL:https://www.ayclogic.com
X-WR-CALDESC:Events for American Young Coder
REFRESH-INTERVAL;VALUE=DURATION:PT1H
X-Robots-Tag:noindex
X-PUBLISHED-TTL:PT1H
BEGIN:VTIMEZONE
TZID:America/Los_Angeles
BEGIN:DAYLIGHT
TZOFFSETFROM:-0800
TZOFFSETTO:-0700
TZNAME:PDT
DTSTART:20210314T100000
END:DAYLIGHT
BEGIN:STANDARD
TZOFFSETFROM:-0700
TZOFFSETTO:-0800
TZNAME:PST
DTSTART:20211107T090000
END:STANDARD
END:VTIMEZONE
BEGIN:VEVENT
DTSTART;TZID=America/Los_Angeles:20210511T160000
DTEND;TZID=America/Los_Angeles:20210511T170000
DTSTAMP:20260425T125725
CREATED:20210513T183140Z
LAST-MODIFIED:20210513T183140Z
UID:7639-1620748800-1620752400@www.ayclogic.com
SUMMARY:4PM - Python Game Development
DESCRIPTION:Today we did:\n\nDraw countdown to screen\nMade tubes appear faster\nCreate more modes\nBegin working on game over mode\n\n\nHomework:\n\nAdd sound effects for when the player hits the tube and the coin\, as well as background music\n\n\n\nIf you have any questions\, please send an email to latisha@ayclogic.com
URL:https://www.ayclogic.com/event/4pm-python-game-development-10/
END:VEVENT
BEGIN:VEVENT
DTSTART;TZID=America/Los_Angeles:20210511T180000
DTEND;TZID=America/Los_Angeles:20210511T190000
DTSTAMP:20260425T125725
CREATED:20210512T052929Z
LAST-MODIFIED:20210512T052929Z
UID:7613-1620756000-1620759600@www.ayclogic.com
SUMMARY:6 PM - Introduction to Python - Nathaniel Lee
DESCRIPTION:Today we:\n\nBegan an introduction to data types and variables\n\n\nHomework:\n\nPages 20-23\n\n\n\nClick here to view the homework if you do not have the book yet. \nIf you have any questions\, feel free to email me at nathaniel@ayclogic.com!
URL:https://www.ayclogic.com/event/6-pm-introduction-to-python-nathaniel-lee/
CATEGORIES:Python Level 1
END:VEVENT
BEGIN:VEVENT
DTSTART;TZID=America/Los_Angeles:20210511T180000
DTEND;TZID=America/Los_Angeles:20210511T190000
DTSTAMP:20260425T125725
CREATED:20210513T040600Z
LAST-MODIFIED:20210513T040600Z
UID:7637-1620756000-1620759600@www.ayclogic.com
SUMMARY:6 PM - Intro To Java
DESCRIPTION:Homework:\n\nCreate a new Java file May11_ForLoopIFELSE.java\ndo the following exercises: https://www.ayclogic.com/java-for-loop-if-else/
URL:https://www.ayclogic.com/event/6-pm-intro-to-java-3/
CATEGORIES:Introduction To Java,Java
END:VEVENT
END:VCALENDAR