BEGIN:VCALENDAR
VERSION:2.0
PRODID:-//American Young Coder - ECPv6.10.1.1//NONSGML v1.0//EN
CALSCALE:GREGORIAN
METHOD:PUBLISH
X-WR-CALNAME:American Young Coder
X-ORIGINAL-URL:https://www.ayclogic.com
X-WR-CALDESC:Events for American Young Coder
REFRESH-INTERVAL;VALUE=DURATION:PT1H
X-Robots-Tag:noindex
X-PUBLISHED-TTL:PT1H
BEGIN:VTIMEZONE
TZID:America/Los_Angeles
BEGIN:DAYLIGHT
TZOFFSETFROM:-0800
TZOFFSETTO:-0700
TZNAME:PDT
DTSTART:20210314T100000
END:DAYLIGHT
BEGIN:STANDARD
TZOFFSETFROM:-0700
TZOFFSETTO:-0800
TZNAME:PST
DTSTART:20211107T090000
END:STANDARD
END:VTIMEZONE
BEGIN:VEVENT
DTSTART;TZID=America/Los_Angeles:20210515T090000
DTEND;TZID=America/Los_Angeles:20210515T100000
DTSTAMP:20260425T083935
CREATED:20210515T201326Z
LAST-MODIFIED:20210515T201326Z
UID:7675-1621069200-1621072800@www.ayclogic.com
SUMMARY:9 AM - Python Game Development
DESCRIPTION:Homework:\n\nRight next to Play button\, display Credit button. Use “assets/images/credit_button.png” image file. You should do this credit button the same way you display play button.\nYou should display this credit button in both landing page and game win page.\nWhen you click this credit button\, you should print “Credit page” in the shell. Again this is the same way you detect mouse click for play button.
URL:https://www.ayclogic.com/event/9-am-python-game-development-55/
CATEGORIES:Python Class,Python Game Development
END:VEVENT
BEGIN:VEVENT
DTSTART;TZID=America/Los_Angeles:20210515T100000
DTEND;TZID=America/Los_Angeles:20210515T110000
DTSTAMP:20260425T083935
CREATED:20210515T041701Z
LAST-MODIFIED:20210515T041701Z
UID:7668-1621072800-1621076400@www.ayclogic.com
SUMMARY:SAT – 10 AM – INDO – Bill Han – Scratch 1
DESCRIPTION:Today We: \n\nReviewed over Last Week’s class\nPracticed getting the coordinates of the corners of shapes\n\nYour HW: \n\nIf you did not\, please download and print out the grid image (Link)\nFill out the coordinates for the Square and Triangle that we did in class\n\nWrite the coordinates near the corner that they belong to\n\n\nFinish finding the coordinates for the Rectangle and the Octagon\n\n 
URL:https://www.ayclogic.com/event/sat-10-am-indo-bill-han-scratch-1-8/
END:VEVENT
BEGIN:VEVENT
DTSTART;TZID=America/Los_Angeles:20210515T100000
DTEND;TZID=America/Los_Angeles:20210515T110000
DTSTAMP:20260425T083935
CREATED:20210515T180032Z
LAST-MODIFIED:20210515T180032Z
UID:7671-1621072800-1621076400@www.ayclogic.com
SUMMARY:10 AM - Intro To Java
DESCRIPTION:Homework:\n\nCreate a new Java file called May15_VariableDataTypeHomework.java.\nFollow the instruction in here: https://www.ayclogic.com/java-variables-datatypes/
URL:https://www.ayclogic.com/event/10-am-intro-to-java/
CATEGORIES:Introduction To Java,Java
END:VEVENT
BEGIN:VEVENT
DTSTART;TZID=America/Los_Angeles:20210515T100000
DTEND;TZID=America/Los_Angeles:20210515T110000
DTSTAMP:20260425T083935
CREATED:20210515T202041Z
LAST-MODIFIED:20210515T202041Z
UID:7677-1621072800-1621076400@www.ayclogic.com
SUMMARY:SAT - 10 AM - INDO - Gamas - Scratch 1
DESCRIPTION:We completed drawing square\, rectangle and triangle on scratch 4 Shapes project.\n\nWe draw the rectangle and square with goto x and y code\nWe draw the triangle using the glide code.\n\n\nHomework:\n\nContinue the 4 Shapes project by drawing octagon on the scratch by using the glide 1 seconds to X and Y. Similar to how we drew the triangle.\nIf you did not attend the class last week\, you can see the code of my project here: https://scratch.mit.edu/projects/527501734/
URL:https://www.ayclogic.com/event/sat-10-am-indo-gamas-scratch-1-4/
CATEGORIES:Scratch Class,Scratch Class Level 1
END:VEVENT
BEGIN:VEVENT
DTSTART;TZID=America/Los_Angeles:20210515T100000
DTEND;TZID=America/Los_Angeles:20210515T110000
DTSTAMP:20260425T083935
CREATED:20210520T112420Z
LAST-MODIFIED:20210520T112420Z
UID:7734-1621072800-1621076400@www.ayclogic.com
SUMMARY:10AM - Intro to Python
DESCRIPTION:Today we did:\n\nCompleted Robux System\nReviewed for the final\n\n\nHomework:\n\nStudy for the final\n\nFinal logistics: 2 hours\, 10am-12pm Saturday\, you can use Thonny to write and test code\, but you cannot open any files from past classes to copy or look at code\nWhat to study: everything that we’ve learned may show up on the exam\, but focus on Grocery Checkout System\, Robux System\, and Turtle\n\n\n\n\n\nIf you have any questions\, please send an email to latisha@ayclogic.com
URL:https://www.ayclogic.com/event/10am-intro-to-python-33/
END:VEVENT
BEGIN:VEVENT
DTSTART;TZID=America/Los_Angeles:20210515T120000
DTEND;TZID=America/Los_Angeles:20210515T130000
DTSTAMP:20260425T083935
CREATED:20210515T200147Z
LAST-MODIFIED:20210515T200147Z
UID:7673-1621080000-1621083600@www.ayclogic.com
SUMMARY:12 PM - Advanced Python Game Development
DESCRIPTION:Homework:\n\nAdd feature to make the bullet launch to the RIGHT when user click the mouse.\nWhen bullet hit the wall\, make the wall disappear.
URL:https://www.ayclogic.com/event/12-pm-advanced-python-game-development-4/
CATEGORIES:Python Class,Python Game Development
END:VEVENT
BEGIN:VEVENT
DTSTART;TZID=America/Los_Angeles:20210515T130000
DTEND;TZID=America/Los_Angeles:20210515T140000
DTSTAMP:20260425T083935
CREATED:20210515T212819Z
LAST-MODIFIED:20210515T213510Z
UID:7679-1621083600-1621087200@www.ayclogic.com
SUMMARY:1 PM - Python Game Development
DESCRIPTION:We went over the homework to add the downwards tube.\nWe slowed down the creation of tubes.\nI’ve uploaded the source code here.\nHomework:\n\nMove all the constants like “HEIGHT”\, “WIDTH”\, etc.\, into a new file called “config.py” and make sure the code still works.\nCreate a new sprite class called “Player” and make move it across the screen.  You can base the class of of the Birdie “Player” class.  You should use the “Green duck #1-01.png” for the image.\nIntegrate the player inside the “main.py” file so you can see the player appear on the screen.
URL:https://www.ayclogic.com/event/1-pm-python-game-development-22/
CATEGORIES:Python Game Development
END:VEVENT
BEGIN:VEVENT
DTSTART;TZID=America/Los_Angeles:20210515T140000
DTEND;TZID=America/Los_Angeles:20210515T150000
DTSTAMP:20260425T083935
CREATED:20210515T221245Z
LAST-MODIFIED:20210515T221513Z
UID:7685-1621087200-1621090800@www.ayclogic.com
SUMMARY:2 PM - Intro to Python
DESCRIPTION:We went over Variables and data types:\n\nInteger\nString\nBoolean\nBoolean expression.\n\n\nHomework:\n\nCreate a new Python file May15_StringHomework.py\nDo codes from the book page 20 to 23. Just copy the code from the book and run it and see if you get the same result as the book showed you.\nFor those who don’t have the book yet\, you can find these pages from the book in here: IntroToPythonP20toP23
URL:https://www.ayclogic.com/event/2-pm-intro-to-python-25/
CATEGORIES:Python Class,Python Level 1
END:VEVENT
BEGIN:VEVENT
DTSTART;TZID=America/Los_Angeles:20210515T150000
DTEND;TZID=America/Los_Angeles:20210515T160000
DTSTAMP:20260425T083935
CREATED:20210518T002313Z
LAST-MODIFIED:20210518T002840Z
UID:7700-1621090800-1621094400@www.ayclogic.com
SUMMARY:3 PM - Scratch Level 1
DESCRIPTION:Today we:\n\nlearned about clones\nlearned more about variables\nfinished the Spiralizer project\nintroduced the Tunnel of Doom project\n\n\nHomework:\n\ncreate a new Scratch project\ntitle the new Scratch project “Tunnel of Doom”\nread and do the codes in Scratch Book Pg. 124-126 in your new Scratch project\nemail us at gamas@ayclogic.com or allison.682.lee@gmail.com if you have any questions or need any help
URL:https://www.ayclogic.com/event/3-pm-scratch-level-1-30/
CATEGORIES:Scratch Class,Scratch Class Level 1
END:VEVENT
BEGIN:VEVENT
DTSTART;TZID=America/Los_Angeles:20210515T160000
DTEND;TZID=America/Los_Angeles:20210515T170000
DTSTAMP:20260425T083935
CREATED:20210516T081743Z
LAST-MODIFIED:20210516T081836Z
UID:7690-1621094400-1621098000@www.ayclogic.com
SUMMARY:4 PM - Introduction to Python - Nathaniel Lee
DESCRIPTION:Today we:\n\nFinished learning about random module.\n\n\nHomework: Do the following problems below.\n\nModify the Magic8Ball.py program to include new answers such as “Absolutely”\, “Of Course not”\, “Try again later”\, “Don’t count on it”\, and\n“It is certain”.\nUse lists and r.choice\, do not use randint.\n\n\n\nIf you have any questions\, feel free to email me at nathaniel@ayclogic.com!
URL:https://www.ayclogic.com/event/4-pm-introduction-to-python-nathaniel-lee-11/
CATEGORIES:Python Level 1
END:VEVENT
BEGIN:VEVENT
DTSTART;TZID=America/Los_Angeles:20210515T170000
DTEND;TZID=America/Los_Angeles:20210515T180000
DTSTAMP:20260425T083935
CREATED:20210516T082141Z
LAST-MODIFIED:20210516T082141Z
UID:7693-1621098000-1621101600@www.ayclogic.com
SUMMARY:5 PM - Introduction to Python - Nathaniel Lee
DESCRIPTION:Today we:\n\nReviewed for the final exam\n\n\nHomework:\n\nPlease study for the final exam that will take place next Saturday on May 22\nThe final exam will be heavily focused on turtle and building programs like GrocerySystem.py and RobuxSystem.py\nMake sure you have good notes and that you understand them!\n\n\n\nIf you have any questions\, feel free to email me at nathaniel@ayclogic.com!
URL:https://www.ayclogic.com/event/5-pm-introduction-to-python-nathaniel-lee-9/
CATEGORIES:Python Level 1
END:VEVENT
END:VCALENDAR