BEGIN:VCALENDAR
VERSION:2.0
PRODID:-//American Young Coder - ECPv6.10.1.1//NONSGML v1.0//EN
CALSCALE:GREGORIAN
METHOD:PUBLISH
X-ORIGINAL-URL:https://www.ayclogic.com
X-WR-CALDESC:Events for American Young Coder
REFRESH-INTERVAL;VALUE=DURATION:PT1H
X-Robots-Tag:noindex
X-PUBLISHED-TTL:PT1H
BEGIN:VTIMEZONE
TZID:America/Los_Angeles
BEGIN:DAYLIGHT
TZOFFSETFROM:-0800
TZOFFSETTO:-0700
TZNAME:PDT
DTSTART:20210314T100000
END:DAYLIGHT
BEGIN:STANDARD
TZOFFSETFROM:-0700
TZOFFSETTO:-0800
TZNAME:PST
DTSTART:20211107T090000
END:STANDARD
END:VTIMEZONE
BEGIN:VEVENT
DTSTART;TZID=America/Los_Angeles:20210516T090000
DTEND;TZID=America/Los_Angeles:20210516T100000
DTSTAMP:20260425T084041
CREATED:20210519T024451Z
LAST-MODIFIED:20210519T025707Z
UID:7718-1621155600-1621159200@www.ayclogic.com
SUMMARY:9 AM - Intro To Java
DESCRIPTION:We continued with DriverSystem.\n\nWe added menu so user can choose which driver to drive for your Trip\n\n\nHomework:\n\nAfter user choose the driver\, we want the user enter the distance for the trip and the time where they want to make the trip. After the system got the distance\, call the driver class calculateTripTime(..) and pass the distance that the user enter to figure out how long the trip will take.\nIf implemented correctly\, this is how the program should run\n\nPlease select your driver for your trip: \n- Alex Kwan\n- Brian Tran\n- Bill Han\n- Gamas Chang\nEnter the name of the driver: Alex Kwan\nHow far is your trip: 10\nWhat time you want to go (Enter 0 to 23): 6\nWith Alex Kwan\, it will take 5.0 minute to make the trip of 10 miles\n\nPlease select your driver for your trip: \n- Alex Kwan\n- Brian Tran\n- Bill Han\n- Gamas Chang\nEnter the name of the driver: Gamas Chang\nHow far is your trip: 20\nWhat time you want to go (Enter 0 to 23): 6\nWith Gamas Chang\, it will take 20.0 minute to make the trip of 20 miles\n\nPlease select your driver for your trip: \n- Alex Kwan\n- Brian Tran\n- Bill Han\n- Gamas Chang\nEnter the name of the driver:
URL:https://www.ayclogic.com/event/9-am-intro-to-java-21/
CATEGORIES:Introduction To Java,Java
END:VEVENT
BEGIN:VEVENT
DTSTART;TZID=America/Los_Angeles:20210516T190000
DTEND;TZID=America/Los_Angeles:20210516T200000
DTSTAMP:20260425T084041
CREATED:20210520T112639Z
LAST-MODIFIED:20210520T112639Z
UID:7736-1621191600-1621195200@www.ayclogic.com
SUMMARY:7PM - Intro to Python
DESCRIPTION:Today we learned:\n\nHow to use list for loops\nHow to use for loops with range\n\n\nHomework:\n\nDo pg 118-121 from the textbook\, inside a file called May16_WhileLoopHomework.py\n\n\n\nIf you have any questions\, please send an email to latisha@ayclogic.com
URL:https://www.ayclogic.com/event/7pm-intro-to-python-13/
END:VEVENT
END:VCALENDAR