BEGIN:VCALENDAR
VERSION:2.0
PRODID:-//American Young Coder - ECPv6.10.1.1//NONSGML v1.0//EN
CALSCALE:GREGORIAN
METHOD:PUBLISH
X-WR-CALNAME:American Young Coder
X-ORIGINAL-URL:https://www.ayclogic.com
X-WR-CALDESC:Events for American Young Coder
REFRESH-INTERVAL;VALUE=DURATION:PT1H
X-Robots-Tag:noindex
X-PUBLISHED-TTL:PT1H
BEGIN:VTIMEZONE
TZID:America/Los_Angeles
BEGIN:DAYLIGHT
TZOFFSETFROM:-0800
TZOFFSETTO:-0700
TZNAME:PDT
DTSTART:20210314T100000
END:DAYLIGHT
BEGIN:STANDARD
TZOFFSETFROM:-0700
TZOFFSETTO:-0800
TZNAME:PST
DTSTART:20211107T090000
END:STANDARD
END:VTIMEZONE
BEGIN:VEVENT
DTSTART;TZID=America/Los_Angeles:20210517T170000
DTEND;TZID=America/Los_Angeles:20210517T180000
DTSTAMP:20260425T072425
CREATED:20210520T192350Z
LAST-MODIFIED:20210520T192350Z
UID:7743-1621270800-1621274400@www.ayclogic.com
SUMMARY:5PM - Beginner Digital Illustration
DESCRIPTION:MONDAY CLASS 5PM \nToday we added the tail and the wing to our Blue Jay project. We used the following steps for each item. \n\nFirst\, draw a base shape in a solid color. (shape of the tail or wing)\nSelect the shape with the Magic Wand tool. This makes staying inside the lines easy while we add details.\nAdd darker and lighter shades of color using the Airbrush tool for soft gradient transitions of color.\nDraw the lines to separate the feathers\, and show detail. (NOTE: lines can be drawn in a separate layer to allow freedom of coloring)\nAdd more feather details as lines or colors as needed.\n\nNext week we will draw the details of the head and face. \n \nHOMEWORK \nConsider the WIP (work in progress) image above. Make sure your layers is organized the same way for best results. Catch up and re-do anything you need\, to be ready for next class. You should be caught up at least to the picture above.
URL:https://www.ayclogic.com/event/5pm-beginner-digital-illustration-24/
CATEGORIES:Beginner Digital Illustration,Digital Illustration
END:VEVENT
BEGIN:VEVENT
DTSTART;TZID=America/Los_Angeles:20210517T180000
DTEND;TZID=America/Los_Angeles:20210517T190000
DTSTAMP:20260425T072425
CREATED:20210520T192748Z
LAST-MODIFIED:20210520T192748Z
UID:7745-1621274400-1621278000@www.ayclogic.com
SUMMARY:6PM - Intermediate Digital Illustration
DESCRIPTION:MONDAY CLASS 6PM \nToday we continued to shade the rest of the body and details\, finishing off the Colt drawing project. \nThere’s no homework this week. We will start something new next week.
URL:https://www.ayclogic.com/event/6pm-intermediate-digital-illustration-13/
CATEGORIES:Digital Illustration,Intermediate Digital Illustration
END:VEVENT
END:VCALENDAR