BEGIN:VCALENDAR
VERSION:2.0
PRODID:-//American Young Coder - ECPv6.10.1.1//NONSGML v1.0//EN
CALSCALE:GREGORIAN
METHOD:PUBLISH
X-WR-CALNAME:American Young Coder
X-ORIGINAL-URL:https://www.ayclogic.com
X-WR-CALDESC:Events for American Young Coder
REFRESH-INTERVAL;VALUE=DURATION:PT1H
X-Robots-Tag:noindex
X-PUBLISHED-TTL:PT1H
BEGIN:VTIMEZONE
TZID:America/Los_Angeles
BEGIN:DAYLIGHT
TZOFFSETFROM:-0800
TZOFFSETTO:-0700
TZNAME:PDT
DTSTART:20210314T100000
END:DAYLIGHT
BEGIN:STANDARD
TZOFFSETFROM:-0700
TZOFFSETTO:-0800
TZNAME:PST
DTSTART:20211107T090000
END:STANDARD
END:VTIMEZONE
BEGIN:VEVENT
DTSTART;TZID=America/Los_Angeles:20210518T160000
DTEND;TZID=America/Los_Angeles:20210518T170000
DTSTAMP:20260425T112923
CREATED:20210520T112857Z
LAST-MODIFIED:20210520T112857Z
UID:7738-1621353600-1621357200@www.ayclogic.com
SUMMARY:4PM - Python Game Development
DESCRIPTION:Today we did:\n\nFinished Flappy Duck\n\nAdded Credits page\n\n\nWent over Final Project\n\n\nHomework:\n\nCome up with an idea for what you want your game to be like\, and search up an assets pack you like on graphicriver.net\n\n\n\nIf you have any questions\, please send an email to latisha@ayclogic.com
URL:https://www.ayclogic.com/event/4pm-python-game-development-12/
END:VEVENT
BEGIN:VEVENT
DTSTART;TZID=America/Los_Angeles:20210518T170000
DTEND;TZID=America/Los_Angeles:20210518T180000
DTSTAMP:20260425T112923
CREATED:20210520T113157Z
LAST-MODIFIED:20210525T010956Z
UID:7740-1621357200-1621360800@www.ayclogic.com
SUMMARY:5PM - Intro to Python
DESCRIPTION:Today we did:\n\nWent over final\n\n\nHomework:\n\nStudy for the makeup final\n\nFinal logistics: 2 hours\, 5pm-7pm on Tuesday\, you can use Thonny to write and test code\, as well as reference code from past classes and homeworks\nAnything that we learned in class can be tested on\, but focus more on Grocery Checkout System\, Robux System\, and Turtle\n\n\n\n\n\nIf you have any questions\, please send an email to latisha@ayclogic.com
URL:https://www.ayclogic.com/event/5pm-intro-to-python-17/
END:VEVENT
BEGIN:VEVENT
DTSTART;TZID=America/Los_Angeles:20210518T180000
DTEND;TZID=America/Los_Angeles:20210518T190000
DTSTAMP:20260425T112923
CREATED:20210519T023919Z
LAST-MODIFIED:20210519T023919Z
UID:7716-1621360800-1621364400@www.ayclogic.com
SUMMARY:6 PM - Intro To Java
DESCRIPTION:We went over the homework of List and Forloop.\nWe went over how to do While loop\nHomework:\n\nCreate a new Java file May18_WhileLoopHomework.java\nDo exercise here: https://www.ayclogic.com/java-exercise-while-loop/
URL:https://www.ayclogic.com/event/6-pm-intro-to-java-5/
CATEGORIES:Introduction To Java,Java
END:VEVENT
BEGIN:VEVENT
DTSTART;TZID=America/Los_Angeles:20210518T180000
DTEND;TZID=America/Los_Angeles:20210518T190000
DTSTAMP:20260425T112923
CREATED:20210519T054826Z
LAST-MODIFIED:20210519T054826Z
UID:7723-1621360800-1621364400@www.ayclogic.com
SUMMARY:6 PM - Introduction to Python - Nathaniel
DESCRIPTION:Today we:\n\nHad an introduction to Strings.\n\n\nHomework:\n\nWrite the code to complete the following problem:                                    Print your top 3 movies that will be outputted on a new line.\nAnd the second movie needs to be tabbed in (indented).\nAll movies should have the first letter of each word capitalized (do not hard code this)\nALL VARIABLES MUST HAVE STRING VALUES THAT ARE LOWERCASE.\n\n\n\nIf you have any questions\, feel free to email me at nathaniel@ayclogic.com!
URL:https://www.ayclogic.com/event/6-pm-introduction-to-python-nathaniel/
CATEGORIES:Python Level 1
END:VEVENT
END:VCALENDAR