BEGIN:VCALENDAR
VERSION:2.0
PRODID:-//American Young Coder - ECPv6.10.1.1//NONSGML v1.0//EN
CALSCALE:GREGORIAN
METHOD:PUBLISH
X-ORIGINAL-URL:https://www.ayclogic.com
X-WR-CALDESC:Events for American Young Coder
REFRESH-INTERVAL;VALUE=DURATION:PT1H
X-Robots-Tag:noindex
X-PUBLISHED-TTL:PT1H
BEGIN:VTIMEZONE
TZID:America/Los_Angeles
BEGIN:DAYLIGHT
TZOFFSETFROM:-0800
TZOFFSETTO:-0700
TZNAME:PDT
DTSTART:20210314T100000
END:DAYLIGHT
BEGIN:STANDARD
TZOFFSETFROM:-0700
TZOFFSETTO:-0800
TZNAME:PST
DTSTART:20211107T090000
END:STANDARD
END:VTIMEZONE
BEGIN:VEVENT
DTSTART;TZID=America/Los_Angeles:20210520T160000
DTEND;TZID=America/Los_Angeles:20210520T170000
DTSTAMP:20260425T084044
CREATED:20210525T011425Z
LAST-MODIFIED:20210525T011425Z
UID:7819-1621526400-1621530000@www.ayclogic.com
SUMMARY:4PM - Python Game Development
DESCRIPTION:Today we did:\n\nStarted Shoot Balloon game\nCreated Balloon sprite\n\n\nHomework\n\nMake Final Project Proposal Story\n\n\n\nIf you have any questions\, please send an email to latisha@ayclogic.com
URL:https://www.ayclogic.com/event/4pm-python-game-development-13/
END:VEVENT
BEGIN:VEVENT
DTSTART;TZID=America/Los_Angeles:20210520T170000
DTEND;TZID=America/Los_Angeles:20210520T180000
DTSTAMP:20260425T084044
CREATED:20210521T060428Z
LAST-MODIFIED:20210521T060428Z
UID:7769-1621530000-1621533600@www.ayclogic.com
SUMMARY:5 PM - Scratch Level 1 - Allison
DESCRIPTION:Today we:\n\ncontinued the Dino Dance project\nlearned about directions in Scratch\nlearned how to repeat codes\n\n\nHomework:\n\nread and do the codes in Scratch Book Pg. 47 Section: Might As Well Jump\n\nclick on the link above to see pictures of the book page\nnote: when the instructions say to “add another ballerina”\, it means to create a new Ballerina Sprite\ndo these codes in the same project we did in class (the project named “Dino Dance”)\nfinish this homework before our next class together next week\n\n\nemail us at gamas@ayclogic.com or allison.682.lee@gmail.com if you need any help or have any questions\n\n\n\n  \n 
URL:https://www.ayclogic.com/event/5-pm-scratch-level-1-allison/
CATEGORIES:Scratch Class,Scratch Class Level 1
END:VEVENT
BEGIN:VEVENT
DTSTART;TZID=America/Los_Angeles:20210520T170000
DTEND;TZID=America/Los_Angeles:20210520T183000
DTSTAMP:20260425T084044
CREATED:20210521T024457Z
LAST-MODIFIED:20210525T222244Z
UID:7750-1621530000-1621535400@www.ayclogic.com
SUMMARY:5 PM-Scratch Level 1-Alexander Lee
DESCRIPTION:Today we:\n\nfinished up the Dinosaur Dance project\nlearned about variables\nlearned about if/then\nlearned about different sound\nstarted the Animal Race project\n\n\nHomework:\n\nDo from pages 51-55 in the pink scratch book.\nHere are the pictures for all of the pages in the book. \nMake sure that you have the book by this upcoming class.
URL:https://www.ayclogic.com/event/5-pm-scratch-level-1-42/
CATEGORIES:Scratch Class,Scratch Class Level 1
END:VEVENT
BEGIN:VEVENT
DTSTART;TZID=America/Los_Angeles:20210520T180000
DTEND;TZID=America/Los_Angeles:20210520T190000
DTSTAMP:20260425T084044
CREATED:20210521T033835Z
LAST-MODIFIED:20210521T033835Z
UID:7759-1621533600-1621537200@www.ayclogic.com
SUMMARY:6 PM - Intro To Java
DESCRIPTION:We went over how to generate random number using Random java module.\nWe created word guessing game that will allow user to guess the secret word for 4 times.\nHomework:\n\nCreate May20_Magic8BallHomework.java\nFollow the instruction in here: https://www.ayclogic.com/intro-to-python/magic-8-ball/
URL:https://www.ayclogic.com/event/6-pm-intro-to-java-6/
CATEGORIES:Introduction To Java,Java
END:VEVENT
BEGIN:VEVENT
DTSTART;TZID=America/Los_Angeles:20210520T190000
DTEND;TZID=America/Los_Angeles:20210520T200000
DTSTAMP:20260425T084044
CREATED:20210521T034321Z
LAST-MODIFIED:20210521T034427Z
UID:7767-1621537200-1621540800@www.ayclogic.com
SUMMARY:7 PM - Python Game Development
DESCRIPTION:We continued with displaying credit button.\nHomework:\n\nContinued with last week homework to display credit page properly. To display all the credit names on the screen\, you need to look at draw_score.
URL:https://www.ayclogic.com/event/7-pm-python-game-development-56/
CATEGORIES:Python Class,Python Game Development
END:VEVENT
END:VCALENDAR