BEGIN:VCALENDAR
VERSION:2.0
PRODID:-//American Young Coder - ECPv6.10.1.1//NONSGML v1.0//EN
CALSCALE:GREGORIAN
METHOD:PUBLISH
X-ORIGINAL-URL:https://www.ayclogic.com
X-WR-CALDESC:Events for American Young Coder
REFRESH-INTERVAL;VALUE=DURATION:PT1H
X-Robots-Tag:noindex
X-PUBLISHED-TTL:PT1H
BEGIN:VTIMEZONE
TZID:America/Los_Angeles
BEGIN:DAYLIGHT
TZOFFSETFROM:-0800
TZOFFSETTO:-0700
TZNAME:PDT
DTSTART:20210314T100000
END:DAYLIGHT
BEGIN:STANDARD
TZOFFSETFROM:-0700
TZOFFSETTO:-0800
TZNAME:PST
DTSTART:20211107T090000
END:STANDARD
END:VTIMEZONE
BEGIN:VEVENT
DTSTART;TZID=America/Los_Angeles:20210526T163000
DTEND;TZID=America/Los_Angeles:20210526T173000
DTSTAMP:20260425T084041
CREATED:20210527T001902Z
LAST-MODIFIED:20210527T045843Z
UID:7853-1622046600-1622050200@www.ayclogic.com
SUMMARY:4:30 PM - Scratch Level 1 (Catch-up)
DESCRIPTION:Today we:\n\ncontinued the Tunnel of Doom project\nlearned how to make the Cat sprite follow the mouse-pointer\nlearned how to make the Cat sprite go back to the starting position when it touches the tunnel\n\n\nHomework:\n\nread and do the codes in Scratch Book Pg. 129-132 (steps 14-23)\nemail us at gamas@ayclogic.com or allison.682.lee@gmail.com if you need any help or have any questions
URL:https://www.ayclogic.com/event/430-scratch-level-1-catch-up/
CATEGORIES:Scratch Class,Scratch Class Level 1
END:VEVENT
BEGIN:VEVENT
DTSTART;TZID=America/Los_Angeles:20210526T170000
DTEND;TZID=America/Los_Angeles:20210526T180000
DTSTAMP:20260425T084041
CREATED:20210531T001847Z
LAST-MODIFIED:20210531T001847Z
UID:7887-1622048400-1622052000@www.ayclogic.com
SUMMARY:5PM - Beginner Digital Illustration
DESCRIPTION:WEDNESDAY CLASS \nToday we started on a new landscape project\, painting a galaxy forest background. \nThis project is different because we simulated traditional painting with airbrush and other brushes. \nHOMEWORK \nPlease illustrate a landscape using techniques learned in class from either this week or last week. You can choose to recreate either of the two options below.
URL:https://www.ayclogic.com/event/5pm-beginner-digital-illustration-26/
CATEGORIES:Beginner Digital Illustration,Digital Illustration
END:VEVENT
BEGIN:VEVENT
DTSTART;TZID=America/Los_Angeles:20210526T180000
DTEND;TZID=America/Los_Angeles:20210526T190000
DTSTAMP:20260425T084041
CREATED:20210527T015908Z
LAST-MODIFIED:20210602T031100Z
UID:7855-1622052000-1622055600@www.ayclogic.com
SUMMARY:6 PM - Python Game Development
DESCRIPTION:We did the homework to detect collision between the player and the birds.\nWe added a game mode and landing page.\nI’ve uploaded the source code here.\n Homework:\n\nCreate a super fireball that survives collisions with the bird.  You can use the space key with (using pygame.K_SPACE) to launch the giant fireball.\nImprove the landing page by centering the play button.  Also show birds and clouds on the landing page.
URL:https://www.ayclogic.com/event/6-pm-python-game-development-137/
CATEGORIES:Python Game Development
END:VEVENT
BEGIN:VEVENT
DTSTART;TZID=America/Los_Angeles:20210526T190000
DTEND;TZID=America/Los_Angeles:20210526T200000
DTSTAMP:20260425T084041
CREATED:20210527T030237Z
LAST-MODIFIED:20210602T032813Z
UID:7857-1622055600-1622059200@www.ayclogic.com
SUMMARY:7 PM - Python Game Development
DESCRIPTION:We went over the homework to add sounds effects and some finishing touches to FlappyDuck.\nWe reviewed the logic for dizzy mode.\nI’ve uploaded the source code here.\nHomework\n\nCome up with a short proposal for your final project\, a few sentences should fine.  You need to describe the objective of the game\, how to win or lose.\nYou should also find what assets you want to use for your final project here: graphicriver.net\nDownload git\, and create an account on https://gitlab.com/.\n\n\n\nNOTE: next Wednesday class on June 2 is canceled. We’ll meet next on June 9.
URL:https://www.ayclogic.com/event/7-pm-python-game-development-57/
CATEGORIES:Python Game Development
END:VEVENT
END:VCALENDAR