BEGIN:VCALENDAR
VERSION:2.0
PRODID:-//American Young Coder - ECPv6.10.1.1//NONSGML v1.0//EN
CALSCALE:GREGORIAN
METHOD:PUBLISH
X-WR-CALNAME:American Young Coder
X-ORIGINAL-URL:https://www.ayclogic.com
X-WR-CALDESC:Events for American Young Coder
REFRESH-INTERVAL;VALUE=DURATION:PT1H
X-Robots-Tag:noindex
X-PUBLISHED-TTL:PT1H
BEGIN:VTIMEZONE
TZID:America/Los_Angeles
BEGIN:DAYLIGHT
TZOFFSETFROM:-0800
TZOFFSETTO:-0700
TZNAME:PDT
DTSTART:20210314T100000
END:DAYLIGHT
BEGIN:STANDARD
TZOFFSETFROM:-0700
TZOFFSETTO:-0800
TZNAME:PST
DTSTART:20211107T090000
END:STANDARD
END:VTIMEZONE
BEGIN:VEVENT
DTSTART;TZID=America/Los_Angeles:20210529T140000
DTEND;TZID=America/Los_Angeles:20210529T150000
DTSTAMP:20260425T083909
CREATED:20210529T221607Z
LAST-MODIFIED:20210531T233013Z
UID:7879-1622296800-1622300400@www.ayclogic.com
SUMMARY:2 PM - Intro To Python
DESCRIPTION:We learn further about IF ELIF ELSE statements\n\nthe difference between = and == and !=\nwe learn about “and” and “or”\n\n\nWe learn how to get an input from shell and how to convert a String into Integer.\nHomework:\n\nCreate May29_TellMeYourAgeHomework.py and do coding exercises according to https://www.ayclogic.com/tell-me-your-age/\nCreate May29_InputFromShellHomework.py and do coding exercises TRY IT YOURSELF 7-1 (Rental Car) and 7-2 (Restaurant Seating) from page 117. This time you have to read the question and do the coding per instruction in the question.
URL:https://www.ayclogic.com/event/3-pm-intro-to-python-2/
END:VEVENT
END:VCALENDAR