BEGIN:VCALENDAR
VERSION:2.0
PRODID:-//American Young Coder - ECPv6.10.1.1//NONSGML v1.0//EN
CALSCALE:GREGORIAN
METHOD:PUBLISH
X-ORIGINAL-URL:https://www.ayclogic.com
X-WR-CALDESC:Events for American Young Coder
REFRESH-INTERVAL;VALUE=DURATION:PT1H
X-Robots-Tag:noindex
X-PUBLISHED-TTL:PT1H
BEGIN:VTIMEZONE
TZID:America/Los_Angeles
BEGIN:DAYLIGHT
TZOFFSETFROM:-0800
TZOFFSETTO:-0700
TZNAME:PDT
DTSTART:20210314T100000
END:DAYLIGHT
BEGIN:STANDARD
TZOFFSETFROM:-0700
TZOFFSETTO:-0800
TZNAME:PST
DTSTART:20211107T090000
END:STANDARD
END:VTIMEZONE
BEGIN:VEVENT
DTSTART;TZID=America/Los_Angeles:20210602T170000
DTEND;TZID=America/Los_Angeles:20210602T180000
DTSTAMP:20260425T041807
CREATED:20210608T070105Z
LAST-MODIFIED:20210608T070105Z
UID:8033-1622653200-1622656800@www.ayclogic.com
SUMMARY:5PM - Beginner Digital Illustration
DESCRIPTION:WEDNESDAY CLASS \nWe finished the Galaxy Forest project! \nNext class\, we are going to start a new project. \nHOMEWORK \nNo homework!
URL:https://www.ayclogic.com/event/5pm-beginner-digital-illustration-27/
CATEGORIES:Beginner Digital Illustration,Digital Illustration
END:VEVENT
BEGIN:VEVENT
DTSTART;TZID=America/Los_Angeles:20210602T170000
DTEND;TZID=America/Los_Angeles:20210602T190000
DTSTAMP:20260425T041807
CREATED:20210603T034239Z
LAST-MODIFIED:20210603T040031Z
UID:7948-1622653200-1622660400@www.ayclogic.com
SUMMARY:5 PM - Summer Intro to Python
DESCRIPTION:We learned Python data types and variables\nWe learned how to combine strings\nWe learned how to do if else elif statements\nWe learned about boolean expression\nWe also learned about getting an input from shell\nHomeworks\n\nI want you to create a new file June2_Stringhomework.py\n\nPg 20-23 from the book\n\n\nI want you to create new file June2_IFELSEhomework.py\n\nPg 79-81 from the book\n\n\n\n\n\nIf you have any questions you can email me at sohan@ayclogic.com
URL:https://www.ayclogic.com/event/5-pm-summer-intro-to-python/
CATEGORIES:Python Level 1
END:VEVENT
BEGIN:VEVENT
DTSTART;TZID=America/Los_Angeles:20210602T180000
DTEND;TZID=America/Los_Angeles:20210602T190000
DTSTAMP:20260425T041807
CREATED:20210609T032351Z
LAST-MODIFIED:20210609T032351Z
UID:8048-1622656800-1622660400@www.ayclogic.com
SUMMARY:6 PM - Python Game Development
DESCRIPTION:Added launch Giant Fireball.\n\nMake sure the launch Giang Fireball position is in front of the player. The coordinate is different when the player is facing LEFT vs RIGHT.\nWe position the play button on the middle by calculating the X and Y according to the Screen WIDTH and HEIGHT.\n\n\nNo Homework
URL:https://www.ayclogic.com/event/6-pm-python-game-development-139/
CATEGORIES:Python Class,Python Game Development
END:VEVENT
END:VCALENDAR