BEGIN:VCALENDAR
VERSION:2.0
PRODID:-//American Young Coder - ECPv6.10.1.1//NONSGML v1.0//EN
CALSCALE:GREGORIAN
METHOD:PUBLISH
X-WR-CALNAME:American Young Coder
X-ORIGINAL-URL:https://www.ayclogic.com
X-WR-CALDESC:Events for American Young Coder
REFRESH-INTERVAL;VALUE=DURATION:PT1H
X-Robots-Tag:noindex
X-PUBLISHED-TTL:PT1H
BEGIN:VTIMEZONE
TZID:America/Los_Angeles
BEGIN:DAYLIGHT
TZOFFSETFROM:-0800
TZOFFSETTO:-0700
TZNAME:PDT
DTSTART:20210314T100000
END:DAYLIGHT
BEGIN:STANDARD
TZOFFSETFROM:-0700
TZOFFSETTO:-0800
TZNAME:PST
DTSTART:20211107T090000
END:STANDARD
END:VTIMEZONE
BEGIN:VEVENT
DTSTART;TZID=America/Los_Angeles:20210603T160000
DTEND;TZID=America/Los_Angeles:20210603T170000
DTSTAMP:20260425T041148
CREATED:20210608T015828Z
LAST-MODIFIED:20210608T015828Z
UID:8025-1622736000-1622739600@www.ayclogic.com
SUMMARY:4PM - Python Game Development
DESCRIPTION:Today we did:\n\nWorked on the final project\nContinued to work on Shoot Balloon game\n\n\nHomework:\n\nContinue working on White Bird Enemy\n\nResize the image\nMake the white bird flap\n\n\nAdd platforms to your game\, and arrange it so that player can jump onto the platforms\nCreate the dinosaur enemy sprite in dinosaur.py and display onto the screen\n\n\n\nIf you have any questions\, please send an email to latisha@ayclogic.com
URL:https://www.ayclogic.com/event/4pm-python-game-development-16/
END:VEVENT
BEGIN:VEVENT
DTSTART;TZID=America/Los_Angeles:20210603T170000
DTEND;TZID=America/Los_Angeles:20210603T180000
DTSTAMP:20260425T041148
CREATED:20210604T010548Z
LAST-MODIFIED:20210604T010640Z
UID:7962-1622739600-1622743200@www.ayclogic.com
SUMMARY:5 PM - Scratch Level 1 - Allison
DESCRIPTION:Today we:\n\ncontinued the Animal Race project\nlearned more about variables\nlearned how to make a sprite go to another sprite\nlearned how to make a sprite go to the front layer\nlearned how to paint a costume\n\n\nHomework:\n\nread and do the codes in your Scratch Book Pg. 54-55\, steps #16-18\n\nthere are no links to the homework pictures; you should use your book for homework\n\n\ndo these codes in the same project we started in class (the project named “Animal Race”)\nfinish this homework before our next class together next week\nemail us at gamas@ayclogic.com or allison.682.lee@gmail.com if you need any help or have any questions
URL:https://www.ayclogic.com/event/5-pm-scratch-level-1-allison-3/
CATEGORIES:Scratch Class,Scratch Class Level 1
END:VEVENT
BEGIN:VEVENT
DTSTART;TZID=America/Los_Angeles:20210603T170000
DTEND;TZID=America/Los_Angeles:20210603T180000
DTSTAMP:20260425T041148
CREATED:20210608T165606Z
LAST-MODIFIED:20210608T175337Z
UID:8039-1622739600-1622743200@www.ayclogic.com
SUMMARY:5 PM - Scratch Level 1 - Alexander Lee
DESCRIPTION:Today we were able to finish the Ask Gobo project\, and just started the Funny faces project.\nFor Homework:\n\nPlease add 3 new random phrases\, like “Maybe” or “I’m not sure”\, to the Ask Gobo project\, as well as recording your voice saying the phrase just like how we did it in class.
URL:https://www.ayclogic.com/event/5-pm-scratch-level-1-alexander-lee-2/
CATEGORIES:Scratch Class,Scratch Class Level 2
END:VEVENT
BEGIN:VEVENT
DTSTART;TZID=America/Los_Angeles:20210603T180000
DTEND;TZID=America/Los_Angeles:20210603T190000
DTSTAMP:20260425T041148
CREATED:20210604T032010Z
LAST-MODIFIED:20210604T032010Z
UID:7960-1622743200-1622746800@www.ayclogic.com
SUMMARY:6 PM - Intro To Java
DESCRIPTION:We continued with Student class\n\nWe learned about access modifier: private\, public\, protected\, default\nWe learned about getter and setter\n\n\nHomework:\n\nCreate a menu that will appear continuously inside SchoolMainApplication\nWhen user select 3\, print “Thank you for using AYCLOGIC school system”.\nWhen user select 1\, ask user for firstName\, lastName\, age and class name.\nLook at below\n\nAYCLOGIC School System:\n1. Create a student\n2. Find student\n3. Quit\nEnter your selection: 1\n\nEnter student's first name: Gamas\nEnter student's last name : Chang\nEnter student's age: 100\nEnter student's class name: 2B\nA new student has been created.\n\nAYCLOGIC School System:\n1. Create a student\n2. Find student\n3. Quit\nEnter your selection: 3\nThank you for using AYCLOGIC School System.\nBye bye.
URL:https://www.ayclogic.com/event/6-pm-intro-to-java-10/
CATEGORIES:Introduction To Java,Java
END:VEVENT
BEGIN:VEVENT
DTSTART;TZID=America/Los_Angeles:20210603T190000
DTEND;TZID=America/Los_Angeles:20210603T200000
DTSTAMP:20260425T041148
CREATED:20210604T031447Z
LAST-MODIFIED:20210604T031447Z
UID:7965-1622746800-1622750400@www.ayclogic.com
SUMMARY:7 PM - Python Game Development
DESCRIPTION:We finished Flappy Duck game.\nHomework:\n\nChoose a game that you want to create.\nChoose a game asset from graphicriver.net\nSend me an email (gamas@ayclogic.com) about the explanation of how the game is\n\nHow to win the game\nHow to lose the game\nHow kill enemies if there are one.
URL:https://www.ayclogic.com/event/7-pm-python-game-development-59/
CATEGORIES:Python Class,Python Game Development
END:VEVENT
END:VCALENDAR