BEGIN:VCALENDAR
VERSION:2.0
PRODID:-//American Young Coder - ECPv6.10.1.1//NONSGML v1.0//EN
CALSCALE:GREGORIAN
METHOD:PUBLISH
X-ORIGINAL-URL:https://www.ayclogic.com
X-WR-CALDESC:Events for American Young Coder
REFRESH-INTERVAL;VALUE=DURATION:PT1H
X-Robots-Tag:noindex
X-PUBLISHED-TTL:PT1H
BEGIN:VTIMEZONE
TZID:America/Los_Angeles
BEGIN:DAYLIGHT
TZOFFSETFROM:-0800
TZOFFSETTO:-0700
TZNAME:PDT
DTSTART:20210314T100000
END:DAYLIGHT
BEGIN:STANDARD
TZOFFSETFROM:-0700
TZOFFSETTO:-0800
TZNAME:PST
DTSTART:20211107T090000
END:STANDARD
END:VTIMEZONE
BEGIN:VEVENT
DTSTART;TZID=America/Los_Angeles:20210607T170000
DTEND;TZID=America/Los_Angeles:20210607T180000
DTSTAMP:20260425T065934
CREATED:20210608T070502Z
LAST-MODIFIED:20210608T070502Z
UID:8035-1623085200-1623088800@www.ayclogic.com
SUMMARY:5PM - Beginner Digital Illustration
DESCRIPTION:MONDAY 5PM CLASS \nToday we finished the Blue Jay project! At least\, we finished the blue jay. \nWe also started a new series (Landscapes!) and the next project: Mountain Sunset Landscape \nHOMEWORK \nAdd a background to the Blue Jay project we just finished!
URL:https://www.ayclogic.com/event/5pm-beginner-digital-illustration-28/
CATEGORIES:Beginner Digital Illustration,Digital Illustration
END:VEVENT
BEGIN:VEVENT
DTSTART;TZID=America/Los_Angeles:20210607T170000
DTEND;TZID=America/Los_Angeles:20210607T190000
DTSTAMP:20260425T065934
CREATED:20210608T024053Z
LAST-MODIFIED:20210608T024231Z
UID:8027-1623085200-1623092400@www.ayclogic.com
SUMMARY:5 PM – Summer Intro to Python
DESCRIPTION:We learned how to use f formatter for strings\nWe learned about string methods\nWe learned how to code if-statements while getting an input from shell\nWe learned about lists and all of its methods\nWe learned about basic for loops\nHomework\n\nI want you to create a new file June7_ListsHomework.py\n\nTRY IT YOURSELF from page 36\nPage 37 to 41 from the book\n\n\n\n\n\nIf you have any questions you can email me at sohan@ayclogic.com
URL:https://www.ayclogic.com/event/5-pm-summer-intro-to-python-2/
CATEGORIES:Python Level 1
END:VEVENT
BEGIN:VEVENT
DTSTART;TZID=America/Los_Angeles:20210607T180000
DTEND;TZID=America/Los_Angeles:20210607T190000
DTSTAMP:20260425T065934
CREATED:20210608T070803Z
LAST-MODIFIED:20210608T070832Z
UID:8037-1623088800-1623092400@www.ayclogic.com
SUMMARY:6PM - Intermediate Digital Illustration
DESCRIPTION:MONDAY CLASS 6PM \nToday we started a simple landscape project\, as a small break from drawing people and figures every week. \nNext class we will finish that up\, and continue on with our regular lessons on some art fundamentals\, especially as it relates to drawing characters. \nHOMEWORK \nNo homework!
URL:https://www.ayclogic.com/event/6pm-intermediate-digital-illustration-14/
CATEGORIES:Digital Illustration,Intermediate Digital Illustration
END:VEVENT
END:VCALENDAR