BEGIN:VCALENDAR
VERSION:2.0
PRODID:-//American Young Coder - ECPv6.10.1.1//NONSGML v1.0//EN
CALSCALE:GREGORIAN
METHOD:PUBLISH
X-WR-CALNAME:American Young Coder
X-ORIGINAL-URL:https://www.ayclogic.com
X-WR-CALDESC:Events for American Young Coder
REFRESH-INTERVAL;VALUE=DURATION:PT1H
X-Robots-Tag:noindex
X-PUBLISHED-TTL:PT1H
BEGIN:VTIMEZONE
TZID:America/Los_Angeles
BEGIN:DAYLIGHT
TZOFFSETFROM:-0800
TZOFFSETTO:-0700
TZNAME:PDT
DTSTART:20210314T100000
END:DAYLIGHT
BEGIN:STANDARD
TZOFFSETFROM:-0700
TZOFFSETTO:-0800
TZNAME:PST
DTSTART:20211107T090000
END:STANDARD
END:VTIMEZONE
BEGIN:VEVENT
DTSTART;TZID=America/Los_Angeles:20210608T160000
DTEND;TZID=America/Los_Angeles:20210608T170000
DTSTAMP:20260425T052535
CREATED:20210611T212812Z
LAST-MODIFIED:20210611T212812Z
UID:8089-1623168000-1623171600@www.ayclogic.com
SUMMARY:4PM - Python Game Development
DESCRIPTION:Today we did:\n\nWorked on final project\nContinued working on Shoot Balloon\n\nMade the balloons keep appearing continuously\n\n\n\n\nHomework:\n\nCheck the word document\n\n\n\nIf you have any questions\, please send an email to latisha@ayclogic.com
URL:https://www.ayclogic.com/event/4pm-python-game-development-17/
END:VEVENT
BEGIN:VEVENT
DTSTART;TZID=America/Los_Angeles:20210608T180000
DTEND;TZID=America/Los_Angeles:20210608T190000
DTSTAMP:20260425T052535
CREATED:20210609T035402Z
LAST-MODIFIED:20210609T035402Z
UID:8050-1623175200-1623178800@www.ayclogic.com
SUMMARY:6 PM - Introduction to Python - Nathaniel
DESCRIPTION:Today we:\n\nFinished learning about if/else statements\nStarted learning about lists\n\n\nHomework:\n\nPgs.36 3-1 and 3-2 (TRY IT YOURSELF)\nPgs.37-38\, Pgs.39\, 41\n\n\n\nIf you have any questions\, feel free to email me at nathaniel@ayclogic.com!
URL:https://www.ayclogic.com/event/6-pm-introduction-to-python-nathaniel-4/
CATEGORIES:Python Level 1
END:VEVENT
END:VCALENDAR