BEGIN:VCALENDAR
VERSION:2.0
PRODID:-//American Young Coder - ECPv6.10.1.1//NONSGML v1.0//EN
CALSCALE:GREGORIAN
METHOD:PUBLISH
X-ORIGINAL-URL:https://www.ayclogic.com
X-WR-CALDESC:Events for American Young Coder
REFRESH-INTERVAL;VALUE=DURATION:PT1H
X-Robots-Tag:noindex
X-PUBLISHED-TTL:PT1H
BEGIN:VTIMEZONE
TZID:America/Los_Angeles
BEGIN:DAYLIGHT
TZOFFSETFROM:-0800
TZOFFSETTO:-0700
TZNAME:PDT
DTSTART:20210314T100000
END:DAYLIGHT
BEGIN:STANDARD
TZOFFSETFROM:-0700
TZOFFSETTO:-0800
TZNAME:PST
DTSTART:20211107T090000
END:STANDARD
END:VTIMEZONE
BEGIN:VEVENT
DTSTART;TZID=America/Los_Angeles:20210612T050000
DTEND;TZID=America/Los_Angeles:20210612T180000
DTSTAMP:20260425T040502
CREATED:20210613T011134Z
LAST-MODIFIED:20210613T011134Z
UID:8122-1623474000-1623520800@www.ayclogic.com
SUMMARY:5 PM - Introduction to Python - Nathaniel Lee
DESCRIPTION:Today we:\n\nFinished learning about dictionaries\nReviewed the homework due\n\n\nHomework:\n\nDo the following problem below. This question can also be found in the google drive file named “Jun12_OOPHw1.py”\nHomework:\nCreate a dictionary called “Animal” and have 4 keys such as “gender”\, “diet”\, “age”\, “name”\nAnd use user input to give these key values. \nCreate a program where if the diet is “carnivore” then print all the information of that animal and state that it eats meat\nIf the diet is “herbivore” then print all the information out and state that it does not eat meat\nIf if the diet is unknown or anything else\, just print all the information of that animal out and say that its diet is unknown\n\n\n\nIf you have any questions\, feel free to email me at nathaniel@ayclogic.com!
URL:https://www.ayclogic.com/event/5-pm-introduction-to-python-nathaniel-lee-11/
CATEGORIES:Python Level 1
END:VEVENT
BEGIN:VEVENT
DTSTART;TZID=America/Los_Angeles:20210612T100000
DTEND;TZID=America/Los_Angeles:20210612T110000
DTSTAMP:20260425T040502
CREATED:20210612T040548Z
LAST-MODIFIED:20210612T040548Z
UID:8093-1623492000-1623495600@www.ayclogic.com
SUMMARY:SAT - 10 AM - Scratch1 - Indo - Gamas
DESCRIPTION:We completed Spiralizer project.\nWe started Birthday card project from page 82.\nHomework:\n\nContinue with Birthday Card project from Page 86 to 89.\nAlso in the bottom of page 84\, please look at the code to make sure the button disappear when user click.
URL:https://www.ayclogic.com/event/sat-10-am-scratch1-indo-gamas/
CATEGORIES:Scratch Class,Scratch Class Level 1
END:VEVENT
BEGIN:VEVENT
DTSTART;TZID=America/Los_Angeles:20210612T100000
DTEND;TZID=America/Los_Angeles:20210612T110000
DTSTAMP:20260425T040502
CREATED:20210612T042400Z
LAST-MODIFIED:20210612T042400Z
UID:8096-1623492000-1623495600@www.ayclogic.com
SUMMARY:SAT – 10 AM – INDO – Bill Han – Scratch 1
DESCRIPTION:Today We: \n\nContinued the animal crossing project\nCreated 3 new animals\nMade them all go left\, right\, up\, and down\nCreated a bat sprite\nMade it start from the bottom left\nMade the bat glide towards the upper right\n\nYour HW: \n\nAdd another bat sprite\n\nMake it start in the upper left side of the screen\nJust like the other bat\, make it glide to the bottom right part of the screen\n\n\nOptional:\n\nAdd more creatures and make them move around the screen using the ways you learned in class.
URL:https://www.ayclogic.com/event/sat-10-am-indo-bill-han-scratch-1-11/
END:VEVENT
BEGIN:VEVENT
DTSTART;TZID=America/Los_Angeles:20210612T100000
DTEND;TZID=America/Los_Angeles:20210612T110000
DTSTAMP:20260425T040502
CREATED:20210612T181912Z
LAST-MODIFIED:20210612T181912Z
UID:8099-1623492000-1623495600@www.ayclogic.com
SUMMARY:10 AM - Intro To Java
DESCRIPTION:We finished learning for loops\nWe started learning while loops\nHomework:\n\nCreate a new Java file June12_WhileLoopHomework.java\nDo exercises from here: https://www.ayclogic.com/java-exercise-while-loop/
URL:https://www.ayclogic.com/event/10-am-intro-to-java-4/
CATEGORIES:Introduction To Java,Java
END:VEVENT
BEGIN:VEVENT
DTSTART;TZID=America/Los_Angeles:20210612T130000
DTEND;TZID=America/Los_Angeles:20210612T140000
DTSTAMP:20260425T040502
CREATED:20210612T205848Z
LAST-MODIFIED:20210612T210051Z
UID:8106-1623502800-1623506400@www.ayclogic.com
SUMMARY:1 PM - Python Game Development
DESCRIPTION:We went over the homework to add in the make player move up when pressing the space key and added an upper coin\nWe added in gravity\nWe added hitboxes for the player\, coin and made coins disappear on collisions.\nI’ve uploaded the code here.\nHomework:\n\nPlayer gets removed when it hits a tube.  You’ll need to add a rect attribute to the Tube sprite class\nAdd a score attribute and make it increase as the player collects more coins.  You can check by printing out the score attribute.\nAdd a score_indicator method that draws the score on the screen.  This should go up when the player collects more coins
URL:https://www.ayclogic.com/event/1-pm-python-game-development-25/
CATEGORIES:Python Game Development
END:VEVENT
BEGIN:VEVENT
DTSTART;TZID=America/Los_Angeles:20210612T140000
DTEND;TZID=America/Los_Angeles:20210612T150000
DTSTAMP:20260425T040502
CREATED:20210612T215828Z
LAST-MODIFIED:20210612T215828Z
UID:8109-1623506400-1623510000@www.ayclogic.com
SUMMARY:2 PM - Intro To Python
DESCRIPTION:Homework:\n\n\n\nCreate a new Python file June12_ForLoopRangeHomework.py\nDo coding exercised in page 57 and 58\nTRY IT YOURSELF from page 60. Do only number 4-3 and 4-4
URL:https://www.ayclogic.com/event/2-pm-intro-to-python-28/
CATEGORIES:Python Class,Python Level 1
END:VEVENT
BEGIN:VEVENT
DTSTART;TZID=America/Los_Angeles:20210612T150000
DTEND;TZID=America/Los_Angeles:20210612T160000
DTSTAMP:20260425T040502
CREATED:20210612T230416Z
LAST-MODIFIED:20210612T230736Z
UID:8113-1623510000-1623513600@www.ayclogic.com
SUMMARY:3 PM - Scratch Level 1
DESCRIPTION:Today we:\n\nadded the “Best Player” variable\nset the “Best Player” variable to the answer of “ask ‘What’s your name?’ and wait” code\nfinished the Tunnel of Doom project\n\n\nHomework:\n\ncreate a new project titled “Window Cleaner”\nin the “Window Cleaner” project\, read and do the codes in Scratch Book Pg. 134-136\, Steps #1-5\nemail us at gamas@ayclogic.com or allison.682.lee@gmail.com if you need any help or have any questions
URL:https://www.ayclogic.com/event/3-pm-scratch-level-1-33/
CATEGORIES:Scratch Class,Scratch Class Level 1
END:VEVENT
BEGIN:VEVENT
DTSTART;TZID=America/Los_Angeles:20210612T160000
DTEND;TZID=America/Los_Angeles:20210612T170000
DTSTAMP:20260425T040502
CREATED:20210613T010923Z
LAST-MODIFIED:20210613T010923Z
UID:8120-1623513600-1623517200@www.ayclogic.com
SUMMARY:4 PM - Introduction to Python - Nathaniel Lee
DESCRIPTION:Today we:\n\nFinished Hangman\n\n\nHomework:\n\nhttps://www.ayclogic.com/list-inputs-if-and-else-loops-and-function/\n\n\n\nIf you have any questions\, feel free to email me at nathaniel@ayclogic.com!
URL:https://www.ayclogic.com/event/4-pm-introduction-to-python-nathaniel-lee-13/
CATEGORIES:Python Level 1
END:VEVENT
BEGIN:VEVENT
DTSTART;TZID=America/Los_Angeles:20210612T170000
DTEND;TZID=America/Los_Angeles:20210612T180000
DTSTAMP:20260425T040502
CREATED:20210617T020340Z
LAST-MODIFIED:20210617T020340Z
UID:8156-1623517200-1623520800@www.ayclogic.com
SUMMARY:5 PM - Introduction to Python - Nathaniel Lee
DESCRIPTION:Today we:\n\nFinished learning about Dictionaries\n\n\nHomework:\n\nCreate a dictionary called “Animal” and have 4 keys such as “gender”\, “diet”\, “age”\, “name”\nAnd use user input to give these key values. \nCreate a program where if the diet is “carnivore” then print all the information of that animal and state that it eats meat\nIf the diet is “herbivore” then print all the information out and state that it does not eat meat\nIf if the diet is unknown or anything else\, just print all the information of that animal out and say that its diet is unknown\n\n\n\nIf you have any questions\, feel free to email me at nathaniel@ayclogic.com!
URL:https://www.ayclogic.com/event/5-pm-introduction-to-python-nathaniel-lee-12/
CATEGORIES:Python Level 1
END:VEVENT
BEGIN:VEVENT
DTSTART;TZID=America/Los_Angeles:20210612T180000
DTEND;TZID=America/Los_Angeles:20210612T190000
DTSTAMP:20260425T040502
CREATED:20210617T013346Z
LAST-MODIFIED:20210617T013411Z
UID:8147-1623520800-1623524400@www.ayclogic.com
SUMMARY:6 PM - Python Game Development
DESCRIPTION:We completed Flappy Bird game.\nHomework:\n\nSelect a teammate for your Python Project.\nSelect game idea that you want to do for your Python project.\nGo to https://graphicriver.net and search for game assets that you can use for your Python project.
URL:https://www.ayclogic.com/event/6-pm-python-game-development-141/
CATEGORIES:Python Class,Python Game Development
END:VEVENT
END:VCALENDAR