BEGIN:VCALENDAR
VERSION:2.0
PRODID:-//American Young Coder - ECPv6.10.1.1//NONSGML v1.0//EN
CALSCALE:GREGORIAN
METHOD:PUBLISH
X-WR-CALNAME:American Young Coder
X-ORIGINAL-URL:https://www.ayclogic.com
X-WR-CALDESC:Events for American Young Coder
REFRESH-INTERVAL;VALUE=DURATION:PT1H
X-Robots-Tag:noindex
X-PUBLISHED-TTL:PT1H
BEGIN:VTIMEZONE
TZID:America/Los_Angeles
BEGIN:DAYLIGHT
TZOFFSETFROM:-0800
TZOFFSETTO:-0700
TZNAME:PDT
DTSTART:20210314T100000
END:DAYLIGHT
BEGIN:STANDARD
TZOFFSETFROM:-0700
TZOFFSETTO:-0800
TZNAME:PST
DTSTART:20211107T090000
END:STANDARD
END:VTIMEZONE
BEGIN:VEVENT
DTSTART;TZID=America/Los_Angeles:20210613T090000
DTEND;TZID=America/Los_Angeles:20210613T100000
DTSTAMP:20260425T053129
CREATED:20210613T030436Z
LAST-MODIFIED:20210613T030436Z
UID:8125-1623574800-1623578400@www.ayclogic.com
SUMMARY:9 AM - Scratch 1 - Indo
DESCRIPTION:We finished Dino Dance project.\nWe started Animal Race project from page 49.\n Homework:\n\nContinue with Animal race from page 53 to 55.
URL:https://www.ayclogic.com/event/9-am-scratch-1-indo-2/
CATEGORIES:Scratch Class,Scratch Class Level 1
END:VEVENT
BEGIN:VEVENT
DTSTART;TZID=America/Los_Angeles:20210613T090000
DTEND;TZID=America/Los_Angeles:20210613T100000
DTSTAMP:20260425T053129
CREATED:20210619T044757Z
LAST-MODIFIED:20210619T044757Z
UID:8181-1623574800-1623578400@www.ayclogic.com
SUMMARY:9 AM - Intro To Java
DESCRIPTION:We completed DriverSystem project.\nWe started with Android Studio.\nNo homework next week.
URL:https://www.ayclogic.com/event/9-am-intro-to-java-23/
CATEGORIES:Introduction To Java,Java
END:VEVENT
END:VCALENDAR