BEGIN:VCALENDAR
VERSION:2.0
PRODID:-//American Young Coder - ECPv6.10.1.1//NONSGML v1.0//EN
CALSCALE:GREGORIAN
METHOD:PUBLISH
X-ORIGINAL-URL:https://www.ayclogic.com
X-WR-CALDESC:Events for American Young Coder
REFRESH-INTERVAL;VALUE=DURATION:PT1H
X-Robots-Tag:noindex
X-PUBLISHED-TTL:PT1H
BEGIN:VTIMEZONE
TZID:America/Los_Angeles
BEGIN:DAYLIGHT
TZOFFSETFROM:-0800
TZOFFSETTO:-0700
TZNAME:PDT
DTSTART:20210314T100000
END:DAYLIGHT
BEGIN:STANDARD
TZOFFSETFROM:-0700
TZOFFSETTO:-0800
TZNAME:PST
DTSTART:20211107T090000
END:STANDARD
END:VTIMEZONE
BEGIN:VEVENT
DTSTART;TZID=America/Los_Angeles:20210614T170000
DTEND;TZID=America/Los_Angeles:20210614T180000
DTSTAMP:20260425T052858
CREATED:20210623T070821Z
LAST-MODIFIED:20210623T070821Z
UID:8249-1623690000-1623693600@www.ayclogic.com
SUMMARY:5PM - Beginner Digital Illustration
DESCRIPTION:MONDAY 5PM \nToday we finished the Sunset Mountain Forest landscape\, and started the Galaxy Forest landscape. \nNo homework.
URL:https://www.ayclogic.com/event/5pm-beginner-digital-illustration-31/
CATEGORIES:Beginner Digital Illustration,Digital Illustration
END:VEVENT
BEGIN:VEVENT
DTSTART;TZID=America/Los_Angeles:20210614T170000
DTEND;TZID=America/Los_Angeles:20210614T190000
DTSTAMP:20260425T052858
CREATED:20210615T024720Z
LAST-MODIFIED:20210615T025031Z
UID:8135-1623690000-1623697200@www.ayclogic.com
SUMMARY:5PM – Summer Intro to Python
DESCRIPTION:We learned about new formats for variable assignment\nWe learned about forever loops\nWe learned how to use “break” to prevent a forever loop\nWe learned how to repeatedly get an input from user until a loop is broken\nWe were introduced to functions\nHomework\n\nI want you to create a new file June14_ForeverLoopHomework\n\nPage 121 and page 123\, TRY IT YOURSELF: 7-5\n\n\n\n\n\nIf you have any questions you can email me at sohan@ayclogic.com
URL:https://www.ayclogic.com/event/5pm-summer-intro-to-python-2/
CATEGORIES:Python Level 1
END:VEVENT
BEGIN:VEVENT
DTSTART;TZID=America/Los_Angeles:20210614T180000
DTEND;TZID=America/Los_Angeles:20210614T190000
DTSTAMP:20260425T052858
CREATED:20210623T071154Z
LAST-MODIFIED:20210623T071154Z
UID:8251-1623693600-1623697200@www.ayclogic.com
SUMMARY:6PM - Intermediate Digital Illustration
DESCRIPTION:MONDAY 6PM \nToday we learned about light sources and how the direction of a light source effects the character or object we are drawing. Specifically we learned how to shade a sphere and a character head. \nHOMEWORK \nFor homework\, draw four character heads\, and shade the head using light sources from four different directions.
URL:https://www.ayclogic.com/event/6pm-intermediate-digital-illustration-15/
CATEGORIES:Digital Illustration,Intermediate Digital Illustration
END:VEVENT
END:VCALENDAR