BEGIN:VCALENDAR
VERSION:2.0
PRODID:-//American Young Coder - ECPv6.10.1.1//NONSGML v1.0//EN
CALSCALE:GREGORIAN
METHOD:PUBLISH
X-WR-CALNAME:American Young Coder
X-ORIGINAL-URL:https://www.ayclogic.com
X-WR-CALDESC:Events for American Young Coder
REFRESH-INTERVAL;VALUE=DURATION:PT1H
X-Robots-Tag:noindex
X-PUBLISHED-TTL:PT1H
BEGIN:VTIMEZONE
TZID:America/Los_Angeles
BEGIN:DAYLIGHT
TZOFFSETFROM:-0800
TZOFFSETTO:-0700
TZNAME:PDT
DTSTART:20210314T100000
END:DAYLIGHT
BEGIN:STANDARD
TZOFFSETFROM:-0700
TZOFFSETTO:-0800
TZNAME:PST
DTSTART:20211107T090000
END:STANDARD
END:VTIMEZONE
BEGIN:VEVENT
DTSTART;TZID=America/Los_Angeles:20210616T170000
DTEND;TZID=America/Los_Angeles:20210616T180000
DTSTAMP:20260425T041604
CREATED:20210617T010732Z
LAST-MODIFIED:20210623T020916Z
UID:8145-1623862800-1623866400@www.ayclogic.com
SUMMARY:5pm - Intro To Python - Bill
DESCRIPTION:Today We:\n\nLooked at cool projects you can do with Python in the future\nLearned how to make variables\nLearned about the Integer data type: Whole number\, no decimals\nLearned about how to do basic calculations(Multiplication\, division)\n\nYour HW:\n\nRead and follow along pages 20-23 in the book inside of Thonny
URL:https://www.ayclogic.com/event/5pm-intro-to-python-19/
END:VEVENT
BEGIN:VEVENT
DTSTART;TZID=America/Los_Angeles:20210616T170000
DTEND;TZID=America/Los_Angeles:20210616T180000
DTSTAMP:20260425T041604
CREATED:20210623T070628Z
LAST-MODIFIED:20210623T070628Z
UID:8247-1623862800-1623866400@www.ayclogic.com
SUMMARY:5PM - Beginner Digital Illustration
DESCRIPTION:WEDNESDAY CLASS \nToday we finished the Lighthouse Ocean Horizon landscape project\, and started a drawing of a Sea Turtle. \nHOMEWORK \nFill out the form for your Final Project Proposal. CLICK HERE
URL:https://www.ayclogic.com/event/5pm-beginner-digital-illustration-30/
CATEGORIES:Beginner Digital Illustration,Digital Illustration
END:VEVENT
BEGIN:VEVENT
DTSTART;TZID=America/Los_Angeles:20210616T170000
DTEND;TZID=America/Los_Angeles:20210616T190000
DTSTAMP:20260425T041604
CREATED:20210617T021331Z
LAST-MODIFIED:20210617T021331Z
UID:8158-1623862800-1623870000@www.ayclogic.com
SUMMARY:5PM – Summer Intro to Python
DESCRIPTION:We learned how to create functions without return values\nWe learned how to call these functions\nWe learned how to create functions with return values\nWe learned how to assign variables to return values\nWe were introduced to random methods\nHomework\n\nI want you to create a new file June16_Functions\n\nHomework: 130\, 131 (TRY IT YOURSELF)\nHomework: 138\, 139\nHomework: https://www.ayclogic.com/list-inputs-if-and-else-loops-and-function/ number 4 to 7.\n\n\n\n\n\n\nIf you have any questions you can email me at sohan@ayclogic.com
URL:https://www.ayclogic.com/event/5pm-summer-intro-to-python-3/
CATEGORIES:Python Level 1
END:VEVENT
BEGIN:VEVENT
DTSTART;TZID=America/Los_Angeles:20210616T180000
DTEND;TZID=America/Los_Angeles:20210616T190000
DTSTAMP:20260425T041604
CREATED:20210617T015556Z
LAST-MODIFIED:20210624T005008Z
UID:8153-1623866400-1623870000@www.ayclogic.com
SUMMARY:6 PM - Python Game Development
DESCRIPTION:We finished the birdie project.\n Homework:\n\nReview the code for Birdie and figure out some questions or things you’re confused about.\nReview how sprites are created and review the things that are needed to create a new sprite.  Also review how to handle collisions.
URL:https://www.ayclogic.com/event/6-pm-python-game-development-142/
CATEGORIES:Python Game Development
END:VEVENT
BEGIN:VEVENT
DTSTART;TZID=America/Los_Angeles:20210616T190000
DTEND;TZID=America/Los_Angeles:20210616T200000
DTSTAMP:20260425T041604
CREATED:20210617T031847Z
LAST-MODIFIED:20210617T032017Z
UID:8160-1623870000-1623873600@www.ayclogic.com
SUMMARY:7 PM - Python Game Development
DESCRIPTION:We added the balloon sprite and made the appear at the bottom of the screen.\nHomework:\n\nCome up with a timeline for your project.  Plan to be finished on August 18.  You should list a few things to finish each sprint.  Make sure to focus on who is responsible for which components.\nIf you haven’t already make sure you create a gitlab account that has a password. Don’t log in with google etc.
URL:https://www.ayclogic.com/event/7-pm-python-game-development-62/
CATEGORIES:Python Game Development
END:VEVENT
END:VCALENDAR