BEGIN:VCALENDAR
VERSION:2.0
PRODID:-//American Young Coder - ECPv6.10.1.1//NONSGML v1.0//EN
CALSCALE:GREGORIAN
METHOD:PUBLISH
X-ORIGINAL-URL:https://www.ayclogic.com
X-WR-CALDESC:Events for American Young Coder
REFRESH-INTERVAL;VALUE=DURATION:PT1H
X-Robots-Tag:noindex
X-PUBLISHED-TTL:PT1H
BEGIN:VTIMEZONE
TZID:America/Los_Angeles
BEGIN:DAYLIGHT
TZOFFSETFROM:-0800
TZOFFSETTO:-0700
TZNAME:PDT
DTSTART:20210314T100000
END:DAYLIGHT
BEGIN:STANDARD
TZOFFSETFROM:-0700
TZOFFSETTO:-0800
TZNAME:PST
DTSTART:20211107T090000
END:STANDARD
END:VTIMEZONE
BEGIN:VEVENT
DTSTART;TZID=America/Los_Angeles:20210617T170000
DTEND;TZID=America/Los_Angeles:20210617T180000
DTSTAMP:20260425T040441
CREATED:20210618T010153Z
LAST-MODIFIED:20210618T010242Z
UID:8164-1623949200-1623952800@www.ayclogic.com
SUMMARY:5 PM Scratch Level 1 Alexander Lee
DESCRIPTION:Today we added in the bowtie and almost completed the Name Animation project.\nFor Homework:\n\nMake the letters in your name look nicer\nFor the 4th letter\, please change the brightness effect by 2\, 25 times and right after clear all the graphic effects.\nFor the 5th letter\, make it turn left 5 degrees and then change the color effect\nFor the 6th letter (For Dyllan)\, Make the ghost effect increase and then decrease just like the 3rd letter where we made it larger and smaller.
URL:https://www.ayclogic.com/event/5-pm-scratch-level-1-alexander-lee-3/
CATEGORIES:Scratch Class,Scratch Class Level 1
END:VEVENT
BEGIN:VEVENT
DTSTART;TZID=America/Los_Angeles:20210617T170000
DTEND;TZID=America/Los_Angeles:20210617T180000
DTSTAMP:20260425T040441
CREATED:20210618T032255Z
LAST-MODIFIED:20210622T010343Z
UID:8166-1623949200-1623952800@www.ayclogic.com
SUMMARY:5 PM - Scratch Level 1 - Allison
DESCRIPTION:Today we:\n\nstarted the Name Animation project\nfirst letter sprite: changed the colors\nsecond letter sprite: forever rotate\nthird letter sprite: forever shrink and grow size\n\nHomework:\n\nspell out the rest of your first name by creating and animating sprites\ndraw at least 1 sprite\nchoose at least 1 sprite from the Scratch Library\nyou can choose how to animate the sprites\, just make sure each letter has some sort of animation\ntry not to use the exact same animation as the ones we used in class\nyou can use more than 1 kind of animation per sprite (ex: a sprite that both change sizes and changes colors)\nemail us at gamas@ayclogic.com or allison.682.lee@gmail.com if you need any help or have any questions
URL:https://www.ayclogic.com/event/5-pm-scratch-level-1-allison-5/
CATEGORIES:Scratch Class,Scratch Class Level 1
END:VEVENT
BEGIN:VEVENT
DTSTART;TZID=America/Los_Angeles:20210617T180000
DTEND;TZID=America/Los_Angeles:20210617T190000
DTSTAMP:20260425T040441
CREATED:20210619T044123Z
LAST-MODIFIED:20210619T044123Z
UID:8177-1623952800-1623956400@www.ayclogic.com
SUMMARY:6 PM - Intro To Java
DESCRIPTION:We continued learning about Java Map/HashMap:\n\nWe learned how to check if a key exists inside a map by using “containsKey()”\nWe enhanced SchoolApplication to use Map/HashMap to find teacher more efficiently: Look at https://drive.google.com/drive/u/0/folders/1r-lCQqSdCloTQeSJEs5lJxkqMzCBtokL for the most updated code.\n\n\nHomework:\n\nWe did findTeacherUsingMap() in the class. Do the same thing for student\n\nAdd studentMap as one of SchoolMainApplication.java class attribute.\nInside createStudent()\, add the new Student into studentMap map.\nAdd findStudentUsingMap() method similar to findTeacherUsingMap().\nUse this findStudentUsingMap() when user choose option “3”\, find student.
URL:https://www.ayclogic.com/event/6-pm-intro-to-java-13/
CATEGORIES:Introduction To Java,Java
END:VEVENT
BEGIN:VEVENT
DTSTART;TZID=America/Los_Angeles:20210617T190000
DTEND;TZID=America/Los_Angeles:20210617T200000
DTSTAMP:20260425T040441
CREATED:20210619T044503Z
LAST-MODIFIED:20210619T044503Z
UID:8179-1623956400-1623960000@www.ayclogic.com
SUMMARY:7 PM - Python Game Development
DESCRIPTION:We went over each person project proposal and make sure most\, if not all\, requirements are captured in the project proposal.\nHomework:\n\ncomplete the project scheduling and make progress on your final project.
URL:https://www.ayclogic.com/event/7-pm-python-game-development-63/
CATEGORIES:Python Class,Python Game Development
END:VEVENT
END:VCALENDAR