BEGIN:VCALENDAR
VERSION:2.0
PRODID:-//American Young Coder - ECPv6.10.1.1//NONSGML v1.0//EN
CALSCALE:GREGORIAN
METHOD:PUBLISH
X-ORIGINAL-URL:https://www.ayclogic.com
X-WR-CALDESC:Events for American Young Coder
REFRESH-INTERVAL;VALUE=DURATION:PT1H
X-Robots-Tag:noindex
X-PUBLISHED-TTL:PT1H
BEGIN:VTIMEZONE
TZID:America/Los_Angeles
BEGIN:DAYLIGHT
TZOFFSETFROM:-0800
TZOFFSETTO:-0700
TZNAME:PDT
DTSTART:20210314T100000
END:DAYLIGHT
BEGIN:STANDARD
TZOFFSETFROM:-0700
TZOFFSETTO:-0800
TZNAME:PST
DTSTART:20211107T090000
END:STANDARD
END:VTIMEZONE
BEGIN:VEVENT
DTSTART;TZID=America/Los_Angeles:20210618T160000
DTEND;TZID=America/Los_Angeles:20210618T170000
DTSTAMP:20260425T041836
CREATED:20210622T015836Z
LAST-MODIFIED:20210622T015836Z
UID:8219-1624032000-1624035600@www.ayclogic.com
SUMMARY:4PM - Python Game Development
DESCRIPTION:Today we did:\n\nWorked on the Final Project\n\n\nHomework:\n\nsee project planner\n\n\n\nIf you have any questions\, please send an email to latisha@ayclogic.com
URL:https://www.ayclogic.com/event/4pm-python-game-development-20/
END:VEVENT
BEGIN:VEVENT
DTSTART;TZID=America/Los_Angeles:20210618T190000
DTEND;TZID=America/Los_Angeles:20210618T200000
DTSTAMP:20260425T041836
CREATED:20210619T041353Z
LAST-MODIFIED:20210619T041353Z
UID:8172-1624042800-1624046400@www.ayclogic.com
SUMMARY:7 PM - Intro To Python
DESCRIPTION:We learned how to do polygon in Turtle.\nWe started Kaleido Spiral project.\nHomework:\n\nIf you get some feedbacks on your\, please resubmit your proposal to gamas@ayclogic.com by Sunday June 20.\nStart making progress on your project. The project is due on July 23.
URL:https://www.ayclogic.com/event/7-pm-intro-to-python-35/
CATEGORIES:Python Class,Python Level 1
END:VEVENT
END:VCALENDAR