BEGIN:VCALENDAR
VERSION:2.0
PRODID:-//American Young Coder - ECPv6.10.1.1//NONSGML v1.0//EN
CALSCALE:GREGORIAN
METHOD:PUBLISH
X-ORIGINAL-URL:https://www.ayclogic.com
X-WR-CALDESC:Events for American Young Coder
REFRESH-INTERVAL;VALUE=DURATION:PT1H
X-Robots-Tag:noindex
X-PUBLISHED-TTL:PT1H
BEGIN:VTIMEZONE
TZID:America/Los_Angeles
BEGIN:DAYLIGHT
TZOFFSETFROM:-0800
TZOFFSETTO:-0700
TZNAME:PDT
DTSTART:20210314T100000
END:DAYLIGHT
BEGIN:STANDARD
TZOFFSETFROM:-0700
TZOFFSETTO:-0800
TZNAME:PST
DTSTART:20211107T090000
END:STANDARD
END:VTIMEZONE
BEGIN:VEVENT
DTSTART;TZID=America/Los_Angeles:20210624T170000
DTEND;TZID=America/Los_Angeles:20210624T180000
DTSTAMP:20260425T040438
CREATED:20210625T011120Z
LAST-MODIFIED:20210625T011325Z
UID:8275-1624554000-1624557600@www.ayclogic.com
SUMMARY:5 PM - Scratch Level 1 - Allison
DESCRIPTION:Today we:\n\ncontinued the Name Animation project\nlearned how to make a sprite forever change colors\nlearned how to make a sprite look like it is glowing by using the brightness effect\nstarted the Funny Faces project\ndrew the Head sprite\ndrew the Eyes sprite\nlearned how to make a sprite go to the back layer\nlearned how to make a sprite go to a specific location\n\nHomework:\n\ndraw a Hair sprite\nadd a Bowtie sprite (you can either draw this sprite or add it from the Sprite Library)\nadd a Hat sprite (you can either draw this sprite or add it from the Sprite Library) (note: if the hat is too big\, code it so the hat’s size is set to a smaller percentage)\nadd/draw a background (don’t create a sprite; go to “Backdrops” instead)\nadd any other decorations you want for the face by creating sprites\nemail us at gamas@ayclogic.com or allison.682.lee@gmail.com if you need any help or have any questions
URL:https://www.ayclogic.com/event/5-pm-scratch-level-1-allison-6/
CATEGORIES:Scratch Class,Scratch Class Level 1
END:VEVENT
BEGIN:VEVENT
DTSTART;TZID=America/Los_Angeles:20210624T170000
DTEND;TZID=America/Los_Angeles:20210624T180000
DTSTAMP:20260425T040438
CREATED:20210701T045402Z
LAST-MODIFIED:20210701T045402Z
UID:8383-1624554000-1624557600@www.ayclogic.com
SUMMARY:5 PM Scratch Level 1 Alexander Lee
DESCRIPTION:Today we were able to finish up the Funny Faces project and we started the Birthday Card project.\nFor Homework:\n\nPlease do from pages 89-91 in your scratch book.
URL:https://www.ayclogic.com/event/5-pm-scratch-level-1-alexander-lee-4/
CATEGORIES:Scratch Class,Scratch Class Level 1
END:VEVENT
BEGIN:VEVENT
DTSTART;TZID=America/Los_Angeles:20210624T190000
DTEND;TZID=America/Los_Angeles:20210624T200000
DTSTAMP:20260425T040438
CREATED:20210625T034144Z
LAST-MODIFIED:20210625T034144Z
UID:8279-1624561200-1624564800@www.ayclogic.com
SUMMARY:7 PM - Python Game Development
DESCRIPTION:Today We do\n\nWe finalized project schedules\nWe were able to checkout/download each individual project from gitlab.com\n\nHomework\n\nFinish all the items under your projects schedules for June 24 and July 8. Items under July 8 means it is due in the class on July 8.\nThere is no class on July 1st because of July 4th weekend.
URL:https://www.ayclogic.com/event/7-pm-python-game-development-65/
CATEGORIES:Python Class,Python Game Development
END:VEVENT
END:VCALENDAR