BEGIN:VCALENDAR
VERSION:2.0
PRODID:-//American Young Coder - ECPv6.10.1.1//NONSGML v1.0//EN
CALSCALE:GREGORIAN
METHOD:PUBLISH
X-WR-CALNAME:American Young Coder
X-ORIGINAL-URL:https://www.ayclogic.com
X-WR-CALDESC:Events for American Young Coder
REFRESH-INTERVAL;VALUE=DURATION:PT1H
X-Robots-Tag:noindex
X-PUBLISHED-TTL:PT1H
BEGIN:VTIMEZONE
TZID:America/Los_Angeles
BEGIN:DAYLIGHT
TZOFFSETFROM:-0800
TZOFFSETTO:-0700
TZNAME:PDT
DTSTART:20210314T100000
END:DAYLIGHT
BEGIN:STANDARD
TZOFFSETFROM:-0700
TZOFFSETTO:-0800
TZNAME:PST
DTSTART:20211107T090000
END:STANDARD
END:VTIMEZONE
BEGIN:VEVENT
DTSTART;TZID=America/Los_Angeles:20210625T190000
DTEND;TZID=America/Los_Angeles:20210625T200000
DTSTAMP:20260425T040258
CREATED:20210627T031637Z
LAST-MODIFIED:20210627T051801Z
UID:8309-1624647600-1624651200@www.ayclogic.com
SUMMARY:7 PM - Intro To Python
DESCRIPTION:Today We Do\n\nWe completed Kalaido Spiral project\nWe started ShoppingCart project\nNo class next week (July 2 to July 5\, 2021) because of July 4 weekend.\n\nHomework\n\nMake progress on your python project. Remember the due date for your final project is July 23.
URL:https://www.ayclogic.com/event/7-pm-intro-to-python-36/
CATEGORIES:Python Class,Python Level 1
END:VEVENT
END:VCALENDAR