BEGIN:VCALENDAR
VERSION:2.0
PRODID:-//American Young Coder - ECPv6.10.1.1//NONSGML v1.0//EN
CALSCALE:GREGORIAN
METHOD:PUBLISH
X-ORIGINAL-URL:https://www.ayclogic.com
X-WR-CALDESC:Events for American Young Coder
REFRESH-INTERVAL;VALUE=DURATION:PT1H
X-Robots-Tag:noindex
X-PUBLISHED-TTL:PT1H
BEGIN:VTIMEZONE
TZID:America/Los_Angeles
BEGIN:DAYLIGHT
TZOFFSETFROM:-0800
TZOFFSETTO:-0700
TZNAME:PDT
DTSTART:20210314T100000
END:DAYLIGHT
BEGIN:STANDARD
TZOFFSETFROM:-0700
TZOFFSETTO:-0800
TZNAME:PST
DTSTART:20211107T090000
END:STANDARD
END:VTIMEZONE
BEGIN:VEVENT
DTSTART;TZID=America/Los_Angeles:20210626T100000
DTEND;TZID=America/Los_Angeles:20210626T110000
DTSTAMP:20260425T053307
CREATED:20210626T180202Z
LAST-MODIFIED:20210626T180202Z
UID:8282-1624701600-1624705200@www.ayclogic.com
SUMMARY:10 AM - Intro To Java
DESCRIPTION:Today We Do\n\nWe continued with Random module.\nWe learned how to generate random number given range of numbers.\nWe created Magic8Ball_V2 which utilized List and random module.\nWe started learning about method.\nNo homework\nNo class next week due to July 4 weekend.
URL:https://www.ayclogic.com/event/10-am-intro-to-java-6/
CATEGORIES:Introduction To Java,Java
END:VEVENT
BEGIN:VEVENT
DTSTART;TZID=America/Los_Angeles:20210626T100000
DTEND;TZID=America/Los_Angeles:20210626T110000
DTSTAMP:20260425T053307
CREATED:20210626T190202Z
LAST-MODIFIED:20210626T190202Z
UID:8284-1624701600-1624705200@www.ayclogic.com
SUMMARY:SAT - 10 AM - Scratch 1 - Gamas
DESCRIPTION:Today We Do\n\nWe personalized Birthday card project to be Birthday Card for Mom\nWe learned how to upload picture as a sprite’s costume.\nWe learned how to upload picture as background.\nNo class on July 3rd because of Holiday in US.\n\nHomework\n\nNo class on July 3rd. The class will resume on July 10th.\nInside Birthday Card For Mom project\, upload your own picture as one of the Shark1 and Shark2 costumes.\nResize banner sprite to fit on the left hand side of the screen. Look at below for reference
URL:https://www.ayclogic.com/event/sat-10-am-scratch-1-gamas-3/
END:VEVENT
BEGIN:VEVENT
DTSTART;TZID=America/Los_Angeles:20210626T100000
DTEND;TZID=America/Los_Angeles:20210626T110000
DTSTAMP:20260425T053307
CREATED:20210707T021636Z
LAST-MODIFIED:20210707T021746Z
UID:8421-1624701600-1624705200@www.ayclogic.com
SUMMARY:SAT - 10 AM - INDO - Scratch 1 - Bill
DESCRIPTION:Today We:\n\nFinished the birthday card project\nBegan the Spyralizer project\nLearned how to use clones\n\nYour HW:\n\nImport the Pen code extention\nMake it so that you can control the pen size using a slider\n\nDo it the same as how we did the angle and speed
URL:https://www.ayclogic.com/event/sat-10-am-indo-scratch-1-bill/
END:VEVENT
BEGIN:VEVENT
DTSTART;TZID=America/Los_Angeles:20210626T120000
DTEND;TZID=America/Los_Angeles:20210626T130000
DTSTAMP:20260425T053307
CREATED:20210626T195915Z
LAST-MODIFIED:20210626T195915Z
UID:8287-1624708800-1624712400@www.ayclogic.com
SUMMARY:12 PM - Advance Python Game Development
DESCRIPTION:We added the ability for Enemy Turret to always point to the Player tank.\nWe added code to make sure that both tank will do the animation only when the tank is in motion.\nThere is no class on July 3rd because of July 4th weekend.\nNo homework.
URL:https://www.ayclogic.com/event/12-pm-advance-python-game-development/
CATEGORIES:Python Class,Python Game Development
END:VEVENT
BEGIN:VEVENT
DTSTART;TZID=America/Los_Angeles:20210626T130000
DTEND;TZID=America/Los_Angeles:20210626T140000
DTSTAMP:20260425T053307
CREATED:20210626T213315Z
LAST-MODIFIED:20210630T035051Z
UID:8294-1624712400-1624716000@www.ayclogic.com
SUMMARY:1 PM - Python Game Development
DESCRIPTION:Today We Do\n\nWe went over the homework.\nWe added animation for when the player hits the tube.\nI’ve uploaded the source code here.\nThere is no class on July 3rd because of July 4 weekend.\n\nHomework\n\nAdd a “CREDIT” button next to the “play” button on the landing page and the game over page. You can use the “Credit_button.png file.  The credit button should be to the right of the play button\n\n\n\n\nAdd another mode called “GAME_CREDIT” for showing the game credit page.\nSwitch the game mode to GAME_CREDIT when the CREDIT button is clicked.\nAdd the game credits page when the game mode is GAME_CREDIT. It should look like this:
URL:https://www.ayclogic.com/event/1-pm-python-game-development-28/
CATEGORIES:Python Game Development
END:VEVENT
BEGIN:VEVENT
DTSTART;TZID=America/Los_Angeles:20210626T130000
DTEND;TZID=America/Los_Angeles:20210626T150000
DTSTAMP:20260425T053307
CREATED:20210629T022223Z
LAST-MODIFIED:20210629T022223Z
UID:8334-1624712400-1624719600@www.ayclogic.com
SUMMARY:1PM - Object Oriented Programming with Python Catch Up
DESCRIPTION:Today we did:\n\nReviewed the final exam\nLearned about Dictionary\nCreated Grocery Checkout System v2 with Dictionary\n\nHomework:\n\npg. 92-95 from the TB and “TRY-IT-YOURSELF” 6-3 on pg 99. Do all of this in a file called Jun26_DictionaryHomework.py\n\nIf you have any questions\, please send an email to latisha@ayclogic.com \n 
URL:https://www.ayclogic.com/event/1pm-object-oriented-programming-with-python-catch-up/
END:VEVENT
BEGIN:VEVENT
DTSTART;TZID=America/Los_Angeles:20210626T140000
DTEND;TZID=America/Los_Angeles:20210626T150000
DTSTAMP:20260425T053307
CREATED:20210626T221903Z
LAST-MODIFIED:20210626T221903Z
UID:8300-1624716000-1624719600@www.ayclogic.com
SUMMARY:2 PM - Intro to Python
DESCRIPTION:Today We Do\n\nWe reviewed While Loop homework.\nThere is no class next week (July 3rd) because of July 4th weekend.\n\nHomework\n\nCreate new homework file June26_PythonHomeworks.py\nDo exercises number 1 to 3 only from https://www.ayclogic.com/list-inputs-if-and-else-loops-and-function/\nCreate a new homework file June26_TellMeYourAge.py\nDo exercises in here\, do all numbers 1 to 3: https://www.ayclogic.com/tell-me-your-age/
URL:https://www.ayclogic.com/event/2-pm-intro-to-python-30/
CATEGORIES:Python Class,Python Level 1
END:VEVENT
BEGIN:VEVENT
DTSTART;TZID=America/Los_Angeles:20210626T150000
DTEND;TZID=America/Los_Angeles:20210626T160000
DTSTAMP:20260425T053307
CREATED:20210627T032235Z
LAST-MODIFIED:20210627T032235Z
UID:8311-1624719600-1624723200@www.ayclogic.com
SUMMARY:3 PM - Python Game Development
DESCRIPTION:Today We Do\n\nWe went over the project proposal.\nWe learned how to clone project from gitlab.com from Pycharm\n\nHomework\n\nMake progress on your team game Sorcery Tower Defense.
URL:https://www.ayclogic.com/event/3-pm-python-game-development-38/
CATEGORIES:Python Class,Python Game Development
END:VEVENT
BEGIN:VEVENT
DTSTART;TZID=America/Los_Angeles:20210626T150000
DTEND;TZID=America/Los_Angeles:20210626T160000
DTSTAMP:20260425T053307
CREATED:20210627T034231Z
LAST-MODIFIED:20210629T015320Z
UID:8316-1624719600-1624723200@www.ayclogic.com
SUMMARY:3 PM - Scratch Level 1
DESCRIPTION:Today we:\n\ncontinued the Window Cleaner project\nreviewed the homework\nlearned how to add the video extension\nlearned how to turn the video on\nlearned how to make a sprite look like it is gradually fading away by using a repeat loop and by using the ghost effect\n\n  \nHomework:\n\nKevin and anyone else who didn’t finish the codes in class: read and do the codes in Scratch Book pg. 139\nEveryone: read and do the codes in Scratch Book pg. 140-141\nREMINDER: due to the Fourth of July weekend\, we will not have class next week. The school will not have class from Friday\, July 2 to Monday\, July 5. \nemail us at gamas@ayclogic.com or allison.682.lee@gmail.com if you need any help or have any questions
URL:https://www.ayclogic.com/event/3-pm-scratch-level-1-36/
CATEGORIES:Scratch Class,Scratch Class Level 1
END:VEVENT
BEGIN:VEVENT
DTSTART;TZID=America/Los_Angeles:20210626T160000
DTEND;TZID=America/Los_Angeles:20210626T170000
DTSTAMP:20260425T053307
CREATED:20210628T042333Z
LAST-MODIFIED:20210630T203020Z
UID:8326-1624723200-1624726800@www.ayclogic.com
SUMMARY:4 PM - Introduction to Python - Nathaniel Lee
DESCRIPTION:Today we: \n\nReviewed homework\nWent over how to understand and fix errors in python\nReviewed for Quiz 2 which will take place on July 10\n\n  \nHomework: \n\nThere are some optional exercises that would be a beneficial way of studying for Quiz 2 in the file “Jun26_Quiz2Review” which is located in the class google drive.\n\n  \nNO CLASS NEXT WEEK! Enjoy your Fourth of July! \nIf you have any questions\, feel free to email me at nathaniel@ayclogic.com
URL:https://www.ayclogic.com/event/4-pm-introduction-to-python-nathaniel-lee-15/
CATEGORIES:Python Level 1
END:VEVENT
BEGIN:VEVENT
DTSTART;TZID=America/Los_Angeles:20210626T170000
DTEND;TZID=America/Los_Angeles:20210626T180000
DTSTAMP:20260425T053307
CREATED:20210628T042544Z
LAST-MODIFIED:20210630T203113Z
UID:8328-1624726800-1624730400@www.ayclogic.com
SUMMARY:5 PM - Object Oriented Programming in Python - Nathaniel Lee
DESCRIPTION:Today we: \n\nLearned the benefit of object-oriented programming in python\nCreated classes and objects\nUsed objects and their attributes with lists\n\n  \nHomework: \n\n\nPage 167 – TRY IT YOURSELF \n\nDown and install latest community edition of pycharm from https://www.jetbrains.com/pycharm/download/\n\nNO CLASS NEXT WEEK! Enjoy your Fourth of July! \nIf you have any questions\, feel free to email me at nathaniel@ayclogic.com
URL:https://www.ayclogic.com/event/5-pm-object-oriented-programming-in-python-nathaniel-lee-2/
CATEGORIES:Python Level 1
END:VEVENT
BEGIN:VEVENT
DTSTART;TZID=America/Los_Angeles:20210626T180000
DTEND;TZID=America/Los_Angeles:20210626T190000
DTSTAMP:20260425T053307
CREATED:20210627T031313Z
LAST-MODIFIED:20210627T031313Z
UID:8307-1624730400-1624734000@www.ayclogic.com
SUMMARY:6 PM - Python Game Development
DESCRIPTION:Today We Do\n\nWe went over each team project proposal.\nWe learned how to clone project from gitlab.com\n\nHomework\n\nFinish your project schedule.
URL:https://www.ayclogic.com/event/6-pm-python-game-development-145/
CATEGORIES:Python Class,Python Game Development
END:VEVENT
END:VCALENDAR