BEGIN:VCALENDAR
VERSION:2.0
PRODID:-//American Young Coder - ECPv6.10.1.1//NONSGML v1.0//EN
CALSCALE:GREGORIAN
METHOD:PUBLISH
X-ORIGINAL-URL:https://www.ayclogic.com
X-WR-CALDESC:Events for American Young Coder
REFRESH-INTERVAL;VALUE=DURATION:PT1H
X-Robots-Tag:noindex
X-PUBLISHED-TTL:PT1H
BEGIN:VTIMEZONE
TZID:America/Los_Angeles
BEGIN:DAYLIGHT
TZOFFSETFROM:-0800
TZOFFSETTO:-0700
TZNAME:PDT
DTSTART:20210314T100000
END:DAYLIGHT
BEGIN:STANDARD
TZOFFSETFROM:-0700
TZOFFSETTO:-0800
TZNAME:PST
DTSTART:20211107T090000
END:STANDARD
END:VTIMEZONE
BEGIN:VEVENT
DTSTART;TZID=America/Los_Angeles:20210627T090000
DTEND;TZID=America/Los_Angeles:20210627T100000
DTSTAMP:20260425T053306
CREATED:20210627T031013Z
LAST-MODIFIED:20210627T031013Z
UID:8305-1624784400-1624788000@www.ayclogic.com
SUMMARY:9 AM - Scratch 1
DESCRIPTION:Today We Do\n\nWe continued adding banners for Animal Race project.\nWe started Ask Gobo project.\n\nWe added YES\, NO and MAYBE answers\nWe also added our own voice to answer the questions\n\n\n\nHomework\n\nDo page 68 from the book so Gobo can answer 6 different answers.\nRecord your voice for all possible answers.
URL:https://www.ayclogic.com/event/9-am-scratch-1-3/
CATEGORIES:Scratch Class,Scratch Class Level 1
END:VEVENT
BEGIN:VEVENT
DTSTART;TZID=America/Los_Angeles:20210627T090000
DTEND;TZID=America/Los_Angeles:20210627T100000
DTSTAMP:20260425T053306
CREATED:20210628T042707Z
LAST-MODIFIED:20210628T042707Z
UID:8325-1624784400-1624788000@www.ayclogic.com
SUMMARY:9 AM - Intro To Java
DESCRIPTION:Today We Do\n\nWe continued with Android First App\, by adding two text fields (firstName and lastName) and when clicking “do something cool” button\, it will get firstName and lastName values and display “Hi <firstName> <lastName>\, Welcome to AYCLOGIC”.\nWe started the Temperature Converter project.\nThere is no class on July 4 weekend. The class will resume on July 11. Thank you.\n\nHomework\n\nAdd a new button under the 2 text fields. Call the button “Convert”.\nWhen the button is clicked\, it will take the text values from the 2 text fields and display the value in the shell via System.out.println
URL:https://www.ayclogic.com/event/9-am-intro-to-java-25/
CATEGORIES:Introduction To Java,Java
END:VEVENT
BEGIN:VEVENT
DTSTART;TZID=America/Los_Angeles:20210627T190000
DTEND;TZID=America/Los_Angeles:20210627T200000
DTSTAMP:20260425T053306
CREATED:20210703T180518Z
LAST-MODIFIED:20210703T180518Z
UID:8401-1624820400-1624824000@www.ayclogic.com
SUMMARY:7PM - Intro to Python
DESCRIPTION:Today we did:\n\nTook quiz 1\n\nHomework:\n\nNone\n\nNo Class on 7/4 for holiday\nIf you have any questions\, please send an email to latisha@ayclogic.com
URL:https://www.ayclogic.com/event/7pm-intro-to-python-16/
END:VEVENT
END:VCALENDAR