BEGIN:VCALENDAR
VERSION:2.0
PRODID:-//American Young Coder - ECPv6.10.1.1//NONSGML v1.0//EN
CALSCALE:GREGORIAN
METHOD:PUBLISH
X-WR-CALNAME:American Young Coder
X-ORIGINAL-URL:https://www.ayclogic.com
X-WR-CALDESC:Events for American Young Coder
REFRESH-INTERVAL;VALUE=DURATION:PT1H
X-Robots-Tag:noindex
X-PUBLISHED-TTL:PT1H
BEGIN:VTIMEZONE
TZID:America/Los_Angeles
BEGIN:DAYLIGHT
TZOFFSETFROM:-0800
TZOFFSETTO:-0700
TZNAME:PDT
DTSTART:20210314T100000
END:DAYLIGHT
BEGIN:STANDARD
TZOFFSETFROM:-0700
TZOFFSETTO:-0800
TZNAME:PST
DTSTART:20211107T090000
END:STANDARD
END:VTIMEZONE
BEGIN:VEVENT
DTSTART;TZID=America/Los_Angeles:20210628T160000
DTEND;TZID=America/Los_Angeles:20210628T170000
DTSTAMP:20260425T053829
CREATED:20210703T180330Z
LAST-MODIFIED:20210703T180330Z
UID:8397-1624896000-1624899600@www.ayclogic.com
SUMMARY:4PM - Python Game Development
DESCRIPTION:Today we did:\n\nWorked on project\nContinued working on Shoot Balloon\n\nHomework:\n\nSee the Project Planner\n\nIf you have any questions\, please send an email to latisha@ayclogic.com
URL:https://www.ayclogic.com/event/4pm-python-game-development-21/
END:VEVENT
BEGIN:VEVENT
DTSTART;TZID=America/Los_Angeles:20210628T170000
DTEND;TZID=America/Los_Angeles:20210628T180000
DTSTAMP:20260425T053829
CREATED:20210630T185116Z
LAST-MODIFIED:20210630T185116Z
UID:8356-1624899600-1624903200@www.ayclogic.com
SUMMARY:5PM - Beginner Digital Illustration
DESCRIPTION:MONDAY 5PM \nToday we continued the Lighthouse Ocean landscape. \nWe drew the rock and adjusted the opacity to make it look like it’s coming from underwater. We also started on the lighthouse. \nHOMEWORK \nAdd brick texture to the lighthouse by using the Hard Edge brush\, using two shades of light gray for variety\, and a brush size between 8-10.
URL:https://www.ayclogic.com/event/5pm-beginner-digital-illustration-34/
CATEGORIES:Beginner Digital Illustration,Digital Illustration
END:VEVENT
BEGIN:VEVENT
DTSTART;TZID=America/Los_Angeles:20210628T170000
DTEND;TZID=America/Los_Angeles:20210628T190000
DTSTAMP:20260425T053829
CREATED:20210629T024133Z
LAST-MODIFIED:20210629T030927Z
UID:8337-1624899600-1624906800@www.ayclogic.com
SUMMARY:5PM – Summer Intro to Python
DESCRIPTION:What We Did Today\n1. We learned about turtle\, and how it can be used to design animations. \n2. We learned how to create squares and circles using functions. \n3. We learned how to call functions to animate drawings. \nHomework\nFor homework just finish drawing the last 2 arms for the robot. Take a look at the screenshot below for reference\, ignore the balloon. \n \nIf you have any questions you can email me at sohan@ayclogic.com
URL:https://www.ayclogic.com/event/5pm-summer-intro-to-python-6/
CATEGORIES:Python Level 1
END:VEVENT
BEGIN:VEVENT
DTSTART;TZID=America/Los_Angeles:20210628T180000
DTEND;TZID=America/Los_Angeles:20210628T190000
DTSTAMP:20260425T053829
CREATED:20210630T185442Z
LAST-MODIFIED:20210630T185442Z
UID:8358-1624903200-1624906800@www.ayclogic.com
SUMMARY:6PM - Intermediate Digital Illustration
DESCRIPTION:MONDAY 6PM \nToday we continued our Killua character illustration by finishing up the clean lines and adding in the flat color. \nHOMEWORK \nFinish coloring in his face\, and shading the entire character. \nHere is the reference photo.
URL:https://www.ayclogic.com/event/6pm-intermediate-digital-illustration-17/
CATEGORIES:Digital Illustration,Intermediate Digital Illustration
END:VEVENT
BEGIN:VEVENT
DTSTART;TZID=America/Los_Angeles:20210628T193000
DTEND;TZID=America/Los_Angeles:20210628T203000
DTSTAMP:20260425T053829
CREATED:20210629T050308Z
LAST-MODIFIED:20210629T050308Z
UID:8343-1624908600-1624912200@www.ayclogic.com
SUMMARY:7PM - Python Game Development (Catchup)
DESCRIPTION:We went over game mode for flappy duck.\nHomework:\n\nCatchup on homework here: https://www.ayclogic.com/event/1-pm-python-game-development-26/\nAnd then do this homework: https://www.ayclogic.com/event/1-pm-python-game-development-28/
URL:https://www.ayclogic.com/event/7pm-python-game-development-catchup/
CATEGORIES:Python Game Development
END:VEVENT
END:VCALENDAR